Package: ACME Version: 2.64.0 Command: /home/biocbuild/R/R/bin/R CMD INSTALL ACME StartedAt: 2025-10-13 20:23:52 -0000 (Mon, 13 Oct 2025) EndedAt: 2025-10-13 20:23:53 -0000 (Mon, 13 Oct 2025) EllapsedTime: 1.5 seconds RetCode: 1 Status: ERROR