Package: ACE Version: 1.28.0 Command: /home/biocbuild/bbs-3.22-bioc/R/bin/R CMD check --install=check:ACE.install-out.txt --library=/home/biocbuild/bbs-3.22-bioc/R/site-library --timings ACE_1.28.0.tar.gz StartedAt: 2025-11-14 21:03:01 -0500 (Fri, 14 Nov 2025) EndedAt: 2025-11-14 21:06:11 -0500 (Fri, 14 Nov 2025) EllapsedTime: 190.3 seconds RetCode: 0 Status: OK CheckDir: ACE.Rcheck Warnings: 0