Package: ACE Version: 1.28.0 Command: /Library/Frameworks/R.framework/Resources/bin/R CMD INSTALL ACE StartedAt: 2025-10-31 15:27:39 -0400 (Fri, 31 Oct 2025) EndedAt: 2025-10-31 15:28:06 -0400 (Fri, 31 Oct 2025) EllapsedTime: 27.9 seconds RetCode: 0 Status: OK