Package: ACE Version: 1.28.0 Command: /Library/Frameworks/R.framework/Resources/bin/R CMD build --keep-empty-dirs --no-resave-data ACE StartedAt: 2025-10-31 16:06:00 -0400 (Fri, 31 Oct 2025) EndedAt: 2025-10-31 16:07:06 -0400 (Fri, 31 Oct 2025) EllapsedTime: 66.3 seconds RetCode: 0 Status: OK PackageFile: ACE_1.28.0.tar.gz PackageFileSize: 2.635 MiB