Package: ACE Version: 1.26.0 Command: /home/biocbuild/R/R/bin/R CMD INSTALL ACE StartedAt: 2025-10-06 20:28:57 -0000 (Mon, 06 Oct 2025) EndedAt: 2025-10-06 20:29:23 -0000 (Mon, 06 Oct 2025) EllapsedTime: 25.8 seconds RetCode: 0 Status: OK