Package: ACE Version: 1.26.0 Command: /home/biocbuild/R/R/bin/R CMD build --keep-empty-dirs --no-resave-data ACE StartedAt: 2025-10-06 22:27:49 -0000 (Mon, 06 Oct 2025) EndedAt: 2025-10-06 22:29:05 -0000 (Mon, 06 Oct 2025) EllapsedTime: 76.0 seconds RetCode: 0 Status: OK PackageFile: ACE_1.26.0.tar.gz PackageFileSize: 2.41 MiB