Package: ABarray Version: 1.78.0 Command: /home/biocbuild/R/R/bin/R CMD INSTALL ABarray StartedAt: 2025-11-10 21:19:36 -0000 (Mon, 10 Nov 2025) EndedAt: 2025-11-10 21:19:48 -0000 (Mon, 10 Nov 2025) EllapsedTime: 11.3 seconds RetCode: 0 Status: OK