Package: ABarray Version: 1.78.0 Command: /home/biocbuild/bbs-3.22-bioc/R/bin/R CMD check --install=check:ABarray.install-out.txt --library=/home/biocbuild/bbs-3.22-bioc/R/site-library --timings ABarray_1.78.0.tar.gz StartedAt: 2025-11-11 21:03:41 -0500 (Tue, 11 Nov 2025) EndedAt: 2025-11-11 21:04:38 -0500 (Tue, 11 Nov 2025) EllapsedTime: 57.1 seconds RetCode: 0 Status: OK CheckDir: ABarray.Rcheck Warnings: 0