Package: ABarray Version: 1.78.0 Command: /home/biocbuild/bbs-3.22-bioc/R/bin/R CMD build --keep-empty-dirs --no-resave-data --md5 ABarray StartedAt: 2025-11-11 16:12:53 -0500 (Tue, 11 Nov 2025) EndedAt: 2025-11-11 16:13:06 -0500 (Tue, 11 Nov 2025) EllapsedTime: 13.0 seconds RetCode: 0 Status: OK PackageFile: ABarray_1.78.0.tar.gz PackageFileSize: 688.2 KiB