Package: ABarray Version: 1.76.0 Command: /home/biocbuild/R/R/bin/R CMD check --install=check:ABarray.install-out.txt --library=/home/biocbuild/R/R/site-library --no-vignettes --timings ABarray_1.76.0.tar.gz StartedAt: 2025-10-14 06:02:33 -0000 (Tue, 14 Oct 2025) EndedAt: 2025-10-14 06:04:01 -0000 (Tue, 14 Oct 2025) EllapsedTime: 87.2 seconds RetCode: 0 Status: OK CheckDir: ABarray.Rcheck Warnings: 0