Package: ABarray Version: 1.78.0 Command: /Library/Frameworks/R.framework/Resources/bin/R CMD check --install=check:ABarray.install-out.txt --library=/Library/Frameworks/R.framework/Resources/library --no-vignettes --timings ABarray_1.78.0.tar.gz StartedAt: 2025-10-31 18:26:15 -0400 (Fri, 31 Oct 2025) EndedAt: 2025-10-31 18:26:43 -0400 (Fri, 31 Oct 2025) EllapsedTime: 27.3 seconds RetCode: 0 Status: OK CheckDir: ABarray.Rcheck Warnings: 0