Package: ABSSeq Version: 1.64.0 Command: /home/biocbuild/R/R/bin/R CMD INSTALL ABSSeq StartedAt: 2025-11-20 21:47:09 -0000 (Thu, 20 Nov 2025) EndedAt: 2025-11-20 21:47:49 -0000 (Thu, 20 Nov 2025) EllapsedTime: 40.3 seconds RetCode: 0 Status: OK