Package: ABSSeq Version: 1.64.0 Command: /home/biocbuild/R/R/bin/R CMD build --keep-empty-dirs --no-resave-data ABSSeq StartedAt: 2025-11-21 00:02:18 -0000 (Fri, 21 Nov 2025) EndedAt: 2025-11-21 00:04:02 -0000 (Fri, 21 Nov 2025) EllapsedTime: 104.1 seconds RetCode: 0 Status: OK PackageFile: ABSSeq_1.64.0.tar.gz PackageFileSize: 1.067 MiB