Package: ABSSeq Version: 1.64.0 Command: /home/biocbuild/bbs-3.22-bioc/R/bin/R CMD INSTALL ABSSeq StartedAt: 2025-11-11 15:07:36 -0500 (Tue, 11 Nov 2025) EndedAt: 2025-11-11 15:07:57 -0500 (Tue, 11 Nov 2025) EllapsedTime: 20.6 seconds RetCode: 0 Status: OK