Package: ABSSeq Version: 1.64.0 Command: /home/biocbuild/bbs-3.22-bioc/R/bin/R CMD check --install=check:ABSSeq.install-out.txt --library=/home/biocbuild/bbs-3.22-bioc/R/site-library --timings ABSSeq_1.64.0.tar.gz StartedAt: 2025-11-11 21:03:41 -0500 (Tue, 11 Nov 2025) EndedAt: 2025-11-11 21:06:24 -0500 (Tue, 11 Nov 2025) EllapsedTime: 162.2 seconds RetCode: 0 Status: OK CheckDir: ABSSeq.Rcheck Warnings: 0