Package: ABSSeq Version: 1.64.0 Command: /home/biocbuild/bbs-3.22-bioc/R/bin/R CMD build --keep-empty-dirs --no-resave-data --md5 ABSSeq StartedAt: 2025-11-11 16:12:53 -0500 (Tue, 11 Nov 2025) EndedAt: 2025-11-11 16:14:02 -0500 (Tue, 11 Nov 2025) EllapsedTime: 69.1 seconds RetCode: 0 Status: OK PackageFile: ABSSeq_1.64.0.tar.gz PackageFileSize: 1.074 MiB