Package: ABSSeq Version: 1.62.0 Command: /home/biocbuild/bbs-3.21-bioc/R/bin/R CMD INSTALL ABSSeq StartedAt: 2025-10-15 15:03:04 -0400 (Wed, 15 Oct 2025) EndedAt: 2025-10-15 15:03:25 -0400 (Wed, 15 Oct 2025) EllapsedTime: 20.6 seconds RetCode: 0 Status: OK