Package: ABSSeq Version: 1.62.0 Command: /home/biocbuild/bbs-3.21-bioc/R/bin/R CMD build --keep-empty-dirs --no-resave-data ABSSeq StartedAt: 2025-10-15 16:06:58 -0400 (Wed, 15 Oct 2025) EndedAt: 2025-10-15 16:08:07 -0400 (Wed, 15 Oct 2025) EllapsedTime: 68.1 seconds RetCode: 0 Status: OK PackageFile: ABSSeq_1.62.0.tar.gz PackageFileSize: 1.073 MiB