Package: ABSSeq Version: 1.62.0 Command: /Library/Frameworks/R.framework/Resources/bin/R CMD INSTALL ABSSeq StartedAt: 2025-10-13 15:11:31 -0400 (Mon, 13 Oct 2025) EndedAt: 2025-10-13 15:11:37 -0400 (Mon, 13 Oct 2025) EllapsedTime: 5.7 seconds RetCode: 0 Status: OK