Package: ABSSeq Version: 1.62.0 Command: /Library/Frameworks/R.framework/Resources/bin/R CMD build --keep-empty-dirs --no-resave-data ABSSeq StartedAt: 2025-10-13 18:45:34 -0400 (Mon, 13 Oct 2025) EndedAt: 2025-10-13 18:47:12 -0400 (Mon, 13 Oct 2025) EllapsedTime: 98.6 seconds RetCode: 0 Status: OK PackageFile: ABSSeq_1.62.0.tar.gz PackageFileSize: 1.073 MiB