Welcome to mirrors.dotsrc.org

All our mirrors of open source software are available via http, https, ftp and an onion service. More information about our mirrors including statistics and contact information is available on our mirror info pages.

For information about dotsrc.org and our other services please go to our website.

Index of /bioconductor/checkResults/release/bioc-LATEST/

File Name  ↓ File Size  ↓ Date  ↓ 
--
-2025-11-11 17:03:02
-2025-11-11 17:03:02
-2025-11-11 17:03:02
-2025-11-11 17:03:03
-2025-11-11 17:03:03
-2025-11-11 17:03:03
-2025-11-11 17:03:03
-2025-11-11 17:03:03
-2025-11-11 17:03:03
-2025-11-11 17:03:03
-2025-11-11 17:03:03
-2025-11-11 17:03:03
-2025-11-11 17:03:03
-2025-11-11 17:03:03
-2025-11-11 17:03:03
-2025-11-11 17:03:03
-2025-11-11 17:03:03
-2025-11-11 17:03:04
-2025-11-11 17:03:04
-2025-11-11 17:03:04
-2025-11-11 17:03:04
-2025-11-11 17:03:04
-2025-11-11 17:03:04
-2025-11-11 17:03:04
-2025-11-11 17:03:04
-2025-11-11 17:03:04
-2025-11-11 17:03:04
-2025-11-11 17:03:04
-2025-11-11 17:03:04
-2025-11-11 17:03:04
-2025-11-11 17:03:04
-2025-11-11 17:03:04
-2025-11-11 17:03:04
-2025-11-11 17:03:03
-2025-11-11 17:03:03
-2025-11-11 17:03:03
-2025-11-11 17:03:03
-2025-11-11 17:03:03
-2025-11-11 17:03:03
-2025-11-11 17:03:03
-2025-11-11 17:03:04
-2025-11-11 17:03:04
-2025-11-11 17:03:04
-2025-11-11 17:03:04
-2025-11-11 17:03:04
-2025-11-11 17:03:04
-2025-11-11 17:03:04
-2025-11-11 17:03:03
-2025-04-09 15:56:01
-2025-11-11 17:03:03
-2025-11-11 17:03:03
-2025-11-11 17:03:03
-2025-11-11 17:03:03
-2025-11-11 17:03:03
-2025-11-11 17:03:04
-2025-11-11 17:03:04
-2025-11-11 17:03:04
-2025-11-11 17:03:04
-2025-11-11 17:03:04
-2025-11-11 17:03:04
-2025-11-11 17:03:04
-2025-11-11 17:03:05
-2025-11-11 17:03:05
-2025-04-09 15:56:02
-2025-11-11 17:03:05
-2025-11-11 17:03:05
-2025-11-11 17:03:05
-2025-11-11 17:03:05
-2025-11-11 17:03:06
-2025-11-11 17:03:06
-2025-11-11 17:03:06
-2025-11-11 17:03:06
-2025-11-11 17:03:06
-2025-11-11 17:03:06
-2025-11-11 17:03:06
-2025-11-11 17:03:06
-2025-11-11 17:03:06
-2025-11-11 17:03:06
-2025-11-11 17:03:06
-2025-11-11 17:03:06
-2025-11-11 17:03:04
-2025-11-11 17:03:04
-2025-11-11 17:03:04
-2025-11-11 17:03:04
-2025-11-11 17:03:04
-2025-11-11 17:03:04
-2025-11-11 17:03:04
-2025-11-11 17:03:05
-2025-11-11 17:03:05
-2025-11-11 17:03:05
-2025-11-11 17:03:05
-2025-11-11 17:03:05
-2025-11-11 17:03:05
-2025-11-11 17:03:05
-2025-11-11 17:02:31
-2025-11-11 17:03:06
-2025-11-11 17:03:06
-2025-11-11 17:03:05
-2025-11-11 17:03:05
-2025-11-11 17:03:05
-2025-11-11 17:03:05
-2025-11-11 17:03:06
-2025-11-11 17:03:06
-2025-11-11 17:03:06
-2025-11-11 17:03:06
-2025-11-11 17:03:06
-2025-11-11 17:03:06
-2025-11-11 17:03:06
-2025-11-11 17:03:05
-2025-11-11 17:03:05
-2025-11-11 17:03:05
-2025-11-11 17:03:05
-2025-11-11 17:03:05
-2025-11-11 17:03:05
-2025-11-11 17:03:05
-2025-11-11 17:03:05
-2025-11-11 17:02:31
-2025-11-11 17:03:05
-2025-11-11 17:03:05
-2025-11-11 17:03:05
-2025-11-11 17:03:05
-2025-11-11 17:03:05
-2025-11-11 17:03:05
-2025-11-11 17:03:05
-2025-11-11 17:03:05
-2025-11-11 17:03:05
-2025-11-11 17:03:05
-2025-11-11 17:03:05
-2025-11-11 17:03:06
-2025-11-11 17:03:06
-2025-11-11 17:03:06
-2025-11-11 17:03:06
-2025-11-11 17:03:06
-2025-11-11 17:03:06
-2025-11-11 17:03:06
-2025-11-11 17:03:06
-2025-11-11 17:03:06
-2025-11-11 17:03:06
-2025-11-11 17:03:06
-2025-11-11 17:03:06
-2025-11-11 17:03:06
-2025-11-11 17:03:06
-2025-11-11 17:03:06
-2025-11-11 17:03:06
-2025-11-11 17:03:06
-2025-11-11 17:03:07
-2025-04-09 15:56:03
-2025-11-11 17:03:07
-2025-11-11 17:03:07
-2025-11-11 17:03:07
-2025-11-11 17:03:07
-2025-11-11 17:03:07
-2025-11-11 17:03:07
-2025-11-11 17:03:07
-2025-11-11 17:03:07
-2025-11-11 17:03:07
-2025-11-11 17:03:07
-2025-11-11 17:03:07
-2025-11-11 17:03:07
-2025-11-11 17:03:07
-2025-11-11 17:03:07
-2025-11-11 17:03:08
-2025-11-11 17:03:08
-2025-11-11 17:03:08
-2025-11-11 17:03:08
-2025-11-11 17:03:08
-2025-11-11 17:03:08
-2025-11-11 17:03:08
-2025-11-11 17:03:08
-2025-11-11 17:03:08
-2025-11-11 17:03:08
-2025-11-11 17:03:08
-2025-11-11 17:03:08
-2025-11-11 17:03:08
-2025-11-11 17:03:08
-2025-11-11 17:03:08
-2025-11-11 17:03:08
-2025-11-11 17:03:08
-2025-11-11 17:03:08
-2025-11-11 17:03:08
-2025-11-11 17:03:09
-2025-11-11 17:03:09
-2025-11-11 17:03:09
-2025-11-11 17:03:09
-2025-11-11 17:03:09
-2025-11-11 17:03:09
-2025-11-11 17:03:09
-2025-11-11 17:03:09
-2025-11-11 17:03:09
-2025-11-11 17:03:09
-2025-11-11 17:03:09
-2025-11-11 17:03:09
-2025-11-11 17:03:10
-2025-11-11 17:03:10
-2025-11-11 17:03:10
-2025-11-11 17:03:10
-2025-11-11 17:03:06
-2025-11-11 17:03:06
-2025-11-11 17:03:06
-2025-11-11 17:03:06
-2025-11-11 17:03:06
-2025-11-11 17:03:07
-2025-11-11 17:03:07
-2025-11-11 17:03:07
-2025-11-11 17:03:07
-2025-11-11 17:03:07
-2025-11-11 17:03:07
-2025-11-11 17:03:07
-2025-11-11 17:03:07
-2025-11-11 17:03:07
-2025-11-11 17:03:07
-2025-11-11 17:03:07
-2025-11-11 17:03:07
-2025-11-11 17:03:07
-2025-11-11 17:03:07
-2025-11-11 17:03:07
-2025-11-11 17:03:07
-2025-11-11 17:03:07
-2025-11-11 17:03:08
-2025-11-11 17:03:07
-2025-11-11 17:03:07
-2025-11-11 17:03:07
-2025-11-11 17:03:07
-2025-11-11 17:03:07
-2025-11-11 17:03:07
-2025-11-11 17:03:07
-2025-11-11 17:03:07
-2025-11-11 17:03:07
-2025-11-11 17:03:08
-2025-11-11 17:03:08
-2025-11-11 17:03:08
-2025-11-11 17:03:08
-2025-11-11 17:03:08
-2025-11-11 17:03:08
-2025-11-11 17:03:08
-2025-11-11 17:03:08
-2025-11-11 17:03:08
-2025-11-11 17:03:08
-2025-11-11 17:03:08
-2025-11-11 17:03:08
-2025-11-11 17:03:08
-2025-11-11 17:03:08
-2025-11-11 17:03:08
-2025-11-11 17:03:08
-2025-11-11 17:03:09
-2025-11-11 17:03:09
-2025-11-11 17:03:09
-2025-11-11 17:03:09
-2025-11-11 17:03:09
-2025-11-11 17:03:09
-2025-11-11 17:03:09
-2025-11-11 17:03:09
-2025-11-11 17:03:09
-2025-11-11 17:03:09
-2025-11-11 17:03:09
-2025-11-11 17:03:09
-2025-11-11 17:03:10
-2025-11-11 17:03:10
-2025-11-11 17:03:10
-2025-11-11 17:03:10
-2025-11-11 17:03:10
-2025-11-11 17:03:10
-2025-11-11 17:03:10
-2025-11-11 17:03:10
-2025-11-11 17:03:10
-2025-11-11 17:03:10
-2025-11-11 17:03:10
-2025-11-11 17:03:10
-2025-11-11 17:03:10
-2025-11-11 17:03:10
-2025-11-11 17:02:36
-2025-11-11 17:03:10
-2025-11-11 17:03:10
-2025-11-11 17:03:11
-2025-11-11 17:03:11
-2025-11-11 17:03:11
-2025-11-11 17:03:11
-2025-11-11 17:03:11
-2025-11-11 17:03:11
-2025-11-11 17:03:11
-2025-11-11 17:03:11
-2025-11-11 17:03:11
-2025-11-11 17:03:11
-2025-11-11 17:03:11
-2025-11-11 17:03:11
-2025-11-11 17:03:11
-2025-04-09 15:56:06
-2025-11-11 17:03:11
-2025-11-11 17:03:11
-2025-11-11 17:03:11
-2025-11-11 17:03:11
-2025-11-11 17:03:11
-2025-11-11 17:03:11
-2025-11-11 17:03:11
-2025-11-11 17:03:11
-2025-11-11 17:03:11
-2025-11-11 17:03:11
-2025-11-11 17:03:11
-2025-11-11 17:03:11
-2025-11-11 17:03:11
-2025-11-11 17:03:12
-2025-11-11 17:03:12
-2025-11-11 17:03:12
-2025-11-11 17:03:12
-2025-11-11 17:03:10
-2025-11-11 17:03:10
-2025-11-11 17:03:11
-2025-11-11 17:03:11
-2025-04-09 15:56:06
-2025-11-11 17:03:10
-2025-11-11 17:03:10
-2025-11-11 17:03:10
-2025-11-11 17:03:10
-2025-11-11 17:03:10
-2025-11-11 17:03:10
-2025-11-11 17:03:10
-2025-11-11 17:03:10
-2025-11-11 17:03:10
-2025-11-11 17:03:10
-2025-11-11 17:03:10
-2025-11-11 17:03:11
-2025-11-11 17:03:11
-2025-11-11 17:03:11
-2025-11-11 17:03:11
-2025-11-11 17:03:11
-2025-11-11 17:03:11
-2025-11-11 17:03:11
-2025-04-09 15:56:06
-2025-11-11 17:03:11
-2025-11-11 17:03:11
-2025-11-11 17:03:11
-2025-11-11 17:03:11
-2025-11-11 17:03:12
-2025-11-11 17:03:12
-2025-11-11 17:03:12
-2025-11-11 17:03:12
-2025-11-11 17:03:12
-2025-11-11 17:03:12
-2025-11-11 17:03:12
-2025-11-11 17:03:12
-2025-11-11 17:03:12
-2025-11-11 17:03:12
-2025-11-11 17:03:12
-2025-11-11 17:03:12
-2025-11-11 17:03:12
-2025-11-11 17:03:12
-2025-11-11 17:03:12
-2025-11-11 17:03:12
-2025-11-11 17:03:12
-2025-11-11 17:03:12
-2025-11-11 17:03:12
-2025-11-11 17:03:12
-2025-11-11 17:03:13
-2025-11-11 17:03:13
-2025-11-11 17:03:12
-2025-11-11 17:03:12
-2025-11-11 17:03:12
-2025-11-11 17:03:12
-2025-11-11 17:03:12
-2025-11-11 17:03:12
-2025-11-11 17:03:12
-2025-11-11 17:03:12
-2025-11-11 17:03:12
-2025-11-11 17:03:12
-2025-11-11 17:03:13
-2025-11-11 17:03:12
-2025-11-11 17:03:13
-2025-11-11 17:03:13
-2025-11-11 17:03:13
-2025-11-11 17:03:13
-2025-11-11 17:03:13
-2025-11-11 17:03:13
-2025-11-11 17:03:13
-2025-11-11 17:03:13
-2025-11-11 17:03:13
-2025-11-11 17:03:13
-2025-11-11 17:03:13
-2025-11-11 17:03:13
-2025-11-11 17:03:13
-2025-11-11 17:03:14
-2025-11-11 17:03:14
-2025-11-11 17:03:13
-2025-11-11 17:03:13
-2025-11-11 17:03:13
-2025-11-11 17:03:13
-2025-11-11 17:03:13
-2025-11-11 17:03:13
-2025-11-11 17:03:13
-2025-11-11 17:03:14
-2025-11-11 17:03:14
-2025-11-11 17:03:14
-2025-11-11 17:03:14
-2025-11-11 17:03:14
-2025-11-11 17:03:14
-2025-11-11 17:03:14
-2025-11-11 17:03:14
-2025-11-11 17:03:14
-2025-11-11 17:03:14
-2025-11-11 17:03:14
-2025-11-11 17:03:14
-2025-11-11 17:03:15
-2025-11-11 17:03:15
-2025-11-11 17:03:15
-2025-11-11 17:03:15
-2025-11-11 17:03:15
-2025-11-11 17:03:15
-2025-11-11 17:03:15
-2025-11-11 17:03:15
-2025-11-11 17:03:15
-2025-11-11 17:03:16
-2025-11-11 17:03:16
-2025-11-11 17:03:16
-2025-11-11 17:03:16
-2025-11-11 17:03:16
-2025-11-11 17:03:16
-2025-11-11 17:03:16
-2025-11-11 17:03:16
-2025-11-11 17:03:16
-2025-11-11 17:03:16
-2025-11-11 17:03:16
-2025-11-11 17:03:16
-2025-11-11 17:03:16
-2025-11-11 17:03:16
-2025-11-11 17:03:16
-2025-11-11 17:03:16
-2025-11-11 17:03:16
-2025-11-11 17:03:16
-2025-11-11 17:03:16
-2025-11-11 17:03:16
-2025-11-11 17:03:16
-2025-11-11 17:03:16
-2025-11-11 17:03:16
-2025-11-11 17:03:16
-2025-11-11 17:03:17
-2025-11-11 17:03:16
-2025-11-11 17:03:17
-2025-11-11 17:03:17
-2025-11-11 17:03:17
-2025-11-11 17:03:17
-2025-11-11 17:03:14
-2025-11-11 17:03:14
-2025-11-11 17:03:15
-2025-11-11 17:03:15
-2025-11-11 17:03:14
-2025-11-11 17:03:14
-2025-11-11 17:03:15
-2025-04-09 15:55:35
-2025-11-11 17:03:15
-2025-11-11 17:03:15
-2025-11-11 17:03:15
-2025-11-11 17:03:15
-2025-11-11 17:03:15
-2025-11-11 17:03:15
-2025-11-11 17:03:15
-2025-11-11 17:03:15
-2025-11-11 17:03:15
-2025-11-11 17:03:15
-2025-11-11 17:03:15
-2025-11-11 17:03:15
-2025-11-11 17:03:15
-2025-11-11 17:03:15
-2025-11-11 17:03:15
-2025-11-11 17:03:15
-2025-11-11 17:03:15
-2025-11-11 17:03:15
-2025-11-11 17:03:15
-2025-11-11 17:03:15
-2025-11-11 17:03:15
-2025-11-11 17:03:15
-2025-11-11 17:03:15
-2025-11-11 17:03:15
-2025-11-11 17:03:15
-2025-11-11 17:03:15
-2025-11-11 17:03:16
-2025-11-11 17:03:16
-2025-11-11 17:03:16
-2025-11-11 17:03:16
-2025-11-11 17:03:16
-2025-11-11 17:03:16
-2025-11-11 17:03:16
-2025-11-11 17:03:16
-2025-04-09 15:56:09
-2025-11-11 17:03:16
-2025-11-11 17:03:17
-2025-11-11 17:03:17
-2025-11-11 17:03:17
-2025-11-11 17:03:17
-2025-11-11 17:03:17
-2025-11-11 17:03:17
-2025-11-11 17:03:17
-2025-11-11 17:03:17
-2025-11-11 17:03:17
-2025-11-11 17:03:17
-2025-11-11 17:03:17
-2025-11-11 17:03:17
-2025-11-11 17:03:17
-2025-11-11 17:03:17
-2025-11-11 17:03:17
-2025-04-09 15:55:47
-2025-11-11 17:03:17
-2025-11-11 17:03:18
-2025-11-11 17:03:17
-2025-11-11 17:03:17
-2025-11-11 17:03:17
-2025-11-11 17:03:17
-2025-11-11 17:03:17
-2025-11-11 17:03:17
-2025-11-11 17:03:17
-2025-11-11 17:03:17
-2025-11-11 17:03:17
-2025-11-11 17:03:17
-2025-11-11 17:03:17
-2025-11-11 17:03:17
-2025-11-11 17:03:17
-2025-11-11 17:03:17
-2025-11-11 17:03:17
-2025-11-11 17:03:17
-2025-11-11 17:03:17
-2025-11-11 17:03:17
-2025-11-11 17:03:17
-2025-11-11 17:03:17
-2025-11-11 17:03:17
-2025-11-11 17:02:41
-2025-11-11 17:03:17
-2025-11-11 17:03:18
-2025-11-11 17:03:18
-2025-11-11 17:03:18
-2025-11-11 17:03:18
-2025-11-11 17:03:18
-2025-11-11 17:03:18
-2025-11-11 17:03:18
-2025-11-11 17:03:18
-2025-11-11 17:03:18
-2025-11-11 17:03:18
-2025-11-11 17:03:18
-2025-11-11 17:03:18
-2025-11-11 17:03:18
-2025-11-11 17:03:18
-2025-11-11 17:03:19
-2025-11-11 17:03:19
-2025-11-11 17:03:19
-2025-11-11 17:03:19
-2025-11-11 17:03:19
-2025-11-11 17:03:19
-2025-11-11 17:03:19
-2025-11-11 17:03:19
-2025-11-11 17:03:19
-2025-11-11 17:03:18
-2025-11-11 17:03:18
-2025-11-11 17:03:18
-2025-11-11 17:03:18
-2025-11-11 17:03:18
-2025-11-11 17:03:19
-2025-11-11 17:03:18
-2025-11-11 17:03:19
-2025-11-11 17:03:19
-2025-11-11 17:03:19
-2025-11-11 17:03:19
-2025-11-11 17:03:19
-2025-11-11 17:03:19
-2025-11-11 17:03:19
-2025-11-11 17:03:19
-2025-11-11 17:03:19
-2025-11-11 17:03:19
-2025-11-11 17:03:19
-2025-11-11 17:03:19
-2025-11-11 17:03:19
-2025-11-11 17:03:19
-2025-11-11 17:03:19
-2025-11-11 17:03:19
-2025-11-11 17:03:20
-2025-11-11 17:03:20
-2025-11-11 17:03:20
-2025-11-11 17:03:20
-2025-11-11 17:03:20
-2025-11-11 17:03:20
-2025-11-11 17:03:20
-2025-11-11 17:03:20
-2025-11-11 17:03:20
-2025-11-11 17:03:20
-2025-11-11 17:03:20
-2025-11-11 17:03:20
-2025-11-11 17:03:20
-2025-11-11 17:03:20
-2025-11-11 17:03:20
-2025-11-11 17:03:20
-2025-11-11 17:03:20
-2025-11-11 17:03:20
-2025-11-11 17:03:20
-2025-11-11 17:03:20
-2025-11-11 17:03:20
-2025-11-11 17:03:20
-2025-11-11 17:03:20
-2025-11-11 17:03:20
-2025-04-09 15:56:11
-2025-11-11 17:03:20
-2025-11-11 17:03:20
-2025-11-11 17:03:20
-2025-11-11 17:03:21
-2025-11-11 17:03:21
-2025-11-11 17:03:21
-2025-11-11 17:03:21
-2025-11-11 17:03:21
-2025-11-11 17:03:21
-2025-11-11 17:03:21
-2025-11-11 17:03:21
-2025-11-11 17:03:21
-2025-11-11 17:03:21
-2025-11-11 17:03:21
-2025-11-11 17:03:21
-2025-11-11 17:03:21
-2025-11-11 17:03:21
-2025-11-11 17:03:21
-2025-11-11 17:03:21
-2025-11-11 17:03:22
-2025-11-11 17:03:22
-2025-11-11 17:03:22
-2025-11-11 17:03:23
-2025-11-11 17:03:23
-2025-11-11 17:03:23
-2025-11-11 17:03:23
-2025-11-11 17:03:23
-2025-11-11 17:03:23
-2025-11-11 17:03:23
-2025-11-11 17:03:23
-2025-11-11 17:03:23
-2025-11-11 17:03:23
-2025-11-11 17:03:23
-2025-11-11 17:03:23
-2025-11-11 17:03:23
-2025-11-11 17:03:24
-2025-11-11 17:03:24
-2025-11-11 17:03:24
-2025-11-11 17:03:24
-2025-11-11 17:03:24
-2025-11-11 17:03:24
-2025-11-11 17:03:24
-2025-11-11 17:03:24
-2025-11-11 17:03:24
-2025-11-11 17:03:24
-2025-11-11 17:03:24
-2025-11-11 17:03:24
-2025-11-11 17:03:24
-2025-11-11 17:03:24
-2025-11-11 17:03:24
-2025-11-11 17:03:24
-2025-11-11 17:03:24
-2025-11-11 17:03:24
-2025-11-11 17:03:24
-2025-11-11 17:03:24
-2025-11-11 17:03:25
-2025-11-11 17:03:25
-2025-11-11 17:03:20
-2025-11-11 17:03:20
-2025-11-11 17:03:21
-2025-11-11 17:03:21
-2025-11-11 17:03:21
-2025-11-11 17:03:21
-2025-11-11 17:03:21
-2025-11-11 17:03:21
-2025-11-11 17:03:21
-2025-11-11 17:03:21
-2025-11-11 17:03:21
-2025-11-11 17:03:21
-2025-11-11 17:03:21
-2025-11-11 17:03:22
-2025-11-11 17:03:22
-2025-11-11 17:03:22
-2025-11-11 17:03:22
-2025-11-11 17:03:22
-2025-11-11 17:03:22
-2025-11-11 17:03:22
-2025-11-11 17:03:22
-2025-11-11 17:03:21
-2025-11-11 17:03:21
-2025-11-11 17:03:21
-2025-11-11 17:03:21
-2025-11-11 17:03:22
-2025-11-11 17:03:22
-2025-11-11 17:03:22
-2025-11-11 17:03:22
-2025-11-11 17:03:22
-2025-11-11 17:03:22
-2025-11-11 17:03:22
-2025-11-11 17:03:22
-2025-11-11 17:03:23
-2025-11-11 17:03:23
-2025-11-11 17:03:22
-2025-11-11 17:03:22
-2025-11-11 17:03:23
-2025-11-11 17:03:23
-2025-11-11 17:03:23
-2025-11-11 17:03:23
-2025-11-11 17:03:23
-2025-11-11 17:03:23
-2025-11-11 17:03:23
-2025-11-11 17:03:24
-2025-11-11 17:03:24
-2025-11-11 17:03:24
-2025-11-11 17:03:24
-2025-11-11 17:03:24
-2025-11-11 17:03:24
-2025-11-11 17:03:24
-2025-11-11 17:03:24
-2025-11-11 17:03:24
-2025-11-11 17:03:24
-2025-11-11 17:03:24
-2025-11-11 17:03:24
-2025-11-11 17:03:24
-2025-11-11 17:03:24
-2025-11-11 17:03:24
-2025-11-11 17:03:24
-2025-11-11 17:03:24
-2025-11-11 17:03:24
-2025-11-11 17:03:24
-2025-11-11 17:03:25
-2025-11-11 17:03:25
-2025-11-11 17:03:25
-2025-11-11 17:03:25
-2025-11-11 17:03:25
-2025-11-11 17:03:25
-2025-11-11 17:03:25
-2025-11-11 17:03:25
-2025-11-11 17:02:48
-2025-11-11 17:03:25
-2025-11-11 17:03:26
-2025-11-11 17:03:26
-2025-11-11 17:03:25
-2025-11-11 17:03:25
-2025-11-11 17:03:25
-2025-11-11 17:03:25
-2025-11-11 17:03:25
-2025-11-11 17:03:25
-2025-11-11 17:03:25
-2025-11-11 17:03:25
-2025-04-09 15:56:14
-2025-11-11 17:03:25
-2025-11-11 17:03:25
-2025-11-11 17:03:26
-2025-11-11 17:03:26
-2025-11-11 17:03:26
-2025-11-11 17:03:26
-2025-11-11 17:03:26
-2025-11-11 17:03:26
-2025-11-11 17:03:26
-2025-11-11 17:03:26
-2025-11-11 17:03:26
-2025-11-11 17:03:26
-2025-11-11 17:03:26
-2025-11-11 17:03:27
-2025-11-11 17:03:27
-2025-11-11 17:03:27
-2025-11-11 17:03:27
-2025-11-11 17:03:27
-2025-11-11 17:03:26
-2025-11-11 17:03:26
-2025-11-11 17:03:26
-2025-11-11 17:03:26
-2025-11-11 17:03:26
-2025-11-11 17:03:26
-2025-11-11 17:02:49
-2025-11-11 17:03:26
-2025-11-11 17:03:26
-2025-11-11 17:03:26
-2025-11-11 17:03:26
-2025-11-11 17:03:27
-2025-11-11 17:03:27
-2025-11-11 17:03:27
-2025-11-11 17:03:27
-2025-11-11 17:03:27
-2025-11-11 17:03:27
-2025-11-11 17:03:27
-2025-11-11 17:03:27
-2025-11-11 17:03:27
-2025-11-11 17:03:27
-2025-11-11 17:03:27
-2025-11-11 17:03:28
-2025-04-09 15:56:15
-2025-04-09 15:56:15
-2025-11-11 17:03:28
-2025-11-11 17:03:28
-2025-11-11 17:03:28
-2025-11-11 17:03:28
-2025-11-11 17:03:28
-2025-11-11 17:03:28
-2025-11-11 17:03:28
-2025-11-11 17:03:28
-2025-11-11 17:03:28
-2025-11-11 17:03:29
-2025-11-11 17:03:29
-2025-11-11 17:03:29
-2025-11-11 17:03:29
-2025-11-11 17:03:29
-2025-11-11 17:03:29
-2025-11-11 17:03:29
-2025-04-09 15:56:14
-2025-11-11 17:03:27
-2025-11-11 17:03:27
-2025-11-11 17:03:27
-2025-11-11 17:03:27
-2025-11-11 17:03:27
-2025-11-11 17:03:27
-2025-11-11 17:03:27
-2025-11-11 17:03:27
-2025-11-11 17:03:28
-2025-11-11 17:03:28
-2025-11-11 17:03:28
-2025-11-11 17:03:28
-2025-11-11 17:03:28
-2025-11-11 17:03:28
-2025-11-11 17:03:28
-2025-11-11 17:03:28
-2025-11-11 17:03:28
-2025-11-11 17:03:28
-2025-11-11 17:03:28
-2025-11-11 17:03:28
-2025-11-11 17:03:29
-2025-11-11 17:03:29
-2025-11-11 17:03:29
-2025-11-11 17:03:29
-2025-11-11 17:03:29
-2025-11-11 17:03:29
-2025-11-11 17:03:29
-2025-11-11 17:03:29
-2025-11-11 17:03:29
-2025-11-11 17:03:29
-2025-11-11 17:03:29
-2025-11-11 17:03:29
-2025-11-11 17:03:29
-2025-04-09 15:56:16
-2025-11-11 17:03:29
-2025-11-11 17:03:29
-2025-11-11 17:02:52
-2025-11-11 17:03:29
-2025-11-11 17:03:29
-2025-11-11 17:03:30
-2025-11-11 17:03:30
-2025-11-11 17:03:30
-2025-11-11 17:03:30
-2025-11-11 17:03:30
-2025-04-09 15:56:17
-2025-11-11 17:03:30
-2025-11-11 17:03:30
-2025-11-11 17:03:30
-2025-11-11 17:03:30
-2025-11-11 17:03:30
-2025-11-11 17:03:30
-2025-11-11 17:03:30
-2025-11-11 17:03:30
-2025-11-11 17:03:30
-2025-11-11 17:03:30
-2025-11-11 17:03:31
-2025-11-11 17:03:31
-2025-11-11 17:03:31
-2025-04-09 15:56:17
-2025-11-11 17:03:31
-2025-11-11 17:03:31
-2025-11-11 17:03:31
-2025-11-11 17:03:31
-2025-11-11 17:03:31
-2025-11-11 17:03:31
-2025-11-11 17:03:31
-2025-11-11 17:03:31
-2025-11-11 17:03:31
-2025-11-11 17:03:31
-2025-11-11 17:03:32
-2025-11-11 17:03:31
-2025-11-11 17:03:32
-2025-11-11 17:03:32
-2025-11-11 17:03:32
-2025-11-11 17:03:32
-2025-11-11 17:03:32
-2025-11-11 17:03:32
-2025-11-11 17:03:32
-2025-11-11 17:03:32
-2025-11-11 17:03:32
-2025-11-11 17:03:32
-2025-11-11 17:03:32
-2025-11-11 17:03:32
-2025-11-11 17:03:32
-2025-11-11 17:03:32
-2025-11-11 17:03:32
-2025-11-11 17:03:32
-2025-11-11 17:03:32
-2025-11-11 17:03:32
-2025-11-11 17:03:32
-2025-11-11 17:03:32
-2025-11-11 17:03:32
-2025-11-11 17:03:32
-2025-11-11 17:03:32
-2025-11-11 17:03:32
-2025-11-11 17:03:32
-2025-11-11 17:03:32
-2025-11-11 17:03:32
-2025-11-11 17:03:33
-2025-11-11 17:03:29
-2025-11-11 17:03:29
-2025-11-11 17:03:30
-2025-11-11 17:03:30
-2025-11-11 17:03:30
-2025-11-11 17:03:30
-2025-11-11 17:03:30
-2025-11-11 17:03:30
-2025-11-11 17:03:30
-2025-11-11 17:02:20
-2025-11-11 17:03:30
-2025-11-11 17:03:30
-2025-11-11 17:02:53
-2025-11-11 17:03:30
-2025-11-11 17:03:30
-2025-11-11 17:03:30
-2025-11-11 17:03:30
-2025-11-11 17:03:31
-2025-04-09 15:56:17
-2025-11-11 17:03:30
-2025-11-11 17:03:30
-2025-11-11 17:03:30
-2025-11-11 17:03:30
-2025-11-11 17:03:30
-2025-11-11 17:03:30
-2025-11-11 17:03:30
-2025-11-11 17:03:30
-2025-11-11 17:03:30
-2025-11-11 17:03:31
-2025-11-11 17:03:31
-2025-11-11 17:03:31
-2025-11-11 17:03:31
-2025-11-11 17:03:31
-2025-11-11 17:03:31
-2025-11-11 17:03:31
-2025-11-11 17:03:31
-2025-11-11 17:03:31
-2025-11-11 17:03:31
-2025-11-11 17:03:31
-2025-11-11 17:03:31
-2025-11-11 17:03:31
-2025-11-11 17:03:31
-2025-11-11 17:03:31
-2025-11-11 17:03:31
-2025-11-11 17:03:32
-2025-11-11 17:03:32
-2025-11-11 17:03:32
-2025-11-11 17:03:32
-2025-11-11 17:03:32
-2025-11-11 17:03:32
-2025-11-11 17:03:32
-2025-11-11 17:03:32
-2025-04-09 15:56:18
-2025-11-11 17:03:32
-2025-11-11 17:03:33
-2025-11-11 17:03:33
-2025-11-11 17:03:33
-2025-11-11 17:03:33
-2025-11-11 17:03:33
-2025-11-11 17:03:33
-2025-11-11 17:03:33
-2025-11-11 17:03:33
-2025-11-11 17:03:33
-2025-11-11 17:03:33
-2025-11-11 17:03:33
-2025-11-11 17:03:33
-2025-11-11 17:03:33
-2025-11-11 17:03:33
-2025-11-11 17:03:34
-2025-11-11 17:03:34
-2025-11-11 17:03:34
-2025-11-11 17:03:34
-2025-11-11 17:03:35
-2025-11-11 17:03:35
-2025-11-11 17:03:35
-2025-11-11 17:03:35
-2025-11-11 17:03:35
-2025-11-11 17:03:35
-2025-11-11 17:03:35
-2025-11-11 17:03:35
-2025-11-11 17:03:35
-2025-11-11 17:03:35
-2025-11-11 17:03:35
-2025-11-11 17:03:36
-2025-11-11 17:03:36
-2025-11-11 17:03:36
-2025-11-11 17:03:36
-2025-11-11 17:03:36
-2025-11-11 17:03:36
-2025-11-11 17:03:36
-2025-11-11 17:03:36
-2025-11-11 17:03:37
-2025-11-11 17:03:37
-2025-11-11 17:03:37
-2025-11-11 17:03:37
-2025-11-11 17:03:37
-2025-11-11 17:03:37
-2025-11-11 17:03:37
-2025-11-11 17:03:37
-2025-11-11 17:03:37
-2025-11-11 17:03:37
-2025-11-11 17:03:37
-2025-11-11 17:03:37
-2025-11-11 17:03:38
-2025-04-09 15:56:20
-2025-11-11 17:03:38
-2025-11-11 17:03:38
-2025-11-11 17:03:38
-2025-11-11 17:03:38
-2025-11-11 17:03:33
-2025-11-11 17:03:33
-2025-11-11 17:03:33
-2025-11-11 17:03:33
-2025-11-11 17:03:34
-2025-11-11 17:03:34
-2025-11-11 17:03:34
-2025-11-11 17:03:34
-2025-11-11 17:03:34
-2025-11-11 17:03:34
-2025-11-11 17:03:35
-2025-11-11 17:03:35
-2025-11-11 17:03:35
-2025-11-11 17:03:35
-2025-11-11 17:03:35
-2025-11-11 17:03:35
-2025-11-11 17:03:35
-2025-11-11 17:03:35
-2025-11-11 17:03:35
-2025-11-11 17:03:35
-2025-11-11 17:03:35
-2025-11-11 17:03:35
-2025-11-11 17:03:35
-2025-11-11 17:03:35
-2025-11-11 17:03:35
-2025-11-11 17:03:35
-2025-11-11 17:03:36
-2025-11-11 17:03:36
-2025-11-11 17:03:36
-2025-11-11 17:03:36
-2025-11-11 17:03:36
-2025-04-09 15:56:20
-2025-11-11 17:03:36
-2025-11-11 17:03:36
-2025-11-11 17:03:36
-2025-11-11 17:03:36
-2025-11-11 17:03:36
-2025-11-11 17:03:36
-2025-11-11 17:03:36
-2025-11-11 17:03:36
-2025-11-11 17:03:36
-2025-11-11 17:03:36
-2025-11-11 17:03:37
-2025-11-11 17:03:37
-2025-11-11 17:03:37
-2025-11-11 17:03:37
-2025-11-11 17:03:37
-2025-11-11 17:03:37
-2025-11-11 17:03:37
-2025-11-11 17:03:37
-2025-11-11 17:03:37
-2025-11-11 17:03:37
-2025-11-11 17:03:37
-2025-11-11 17:03:37
-2025-11-11 17:03:37
-2025-11-11 17:03:37
-2025-11-11 17:03:38
-2025-11-11 17:03:38
-2025-11-11 17:03:38
-2025-11-11 17:03:38
-2025-11-11 17:03:38
-2025-11-11 17:03:38
-2025-11-11 17:03:38
-2025-11-11 17:03:38
-2025-11-11 17:03:38
-2025-11-11 17:03:38
-2025-11-11 17:03:38
-2025-11-11 17:03:38
-2025-11-11 17:03:38
-2025-11-11 17:03:38
-2025-11-11 17:03:38
-2025-11-11 17:03:38
-2025-11-11 17:03:38
-2025-11-11 17:03:38
-2025-11-11 17:03:38
-2025-11-11 17:03:38
-2025-11-11 17:03:38
-2025-11-11 17:03:38
-2025-11-11 17:03:39
-2025-11-11 17:03:39
-2025-11-11 17:03:39
-2025-11-11 17:03:39
-2025-11-11 17:03:39
-2025-11-11 17:03:39
-2025-11-11 17:03:39
-2025-11-11 17:03:39
-2025-11-11 17:03:39
-2025-11-11 17:03:39
-2025-11-11 17:03:39
-2025-11-11 17:03:39
-2025-11-11 17:03:39
-2025-11-11 17:03:40
-2025-11-11 17:03:40
-2025-11-11 17:03:40
-2025-11-11 17:03:40
-2025-11-11 17:03:40
-2025-11-11 17:03:40
-2025-11-11 17:03:40
-2025-11-11 17:03:38
-2025-11-11 17:03:38
-2025-11-11 17:03:38
-2025-11-11 17:03:38
-2025-11-11 17:03:39
-2025-11-11 17:03:39
-2025-11-11 17:03:39
-2025-11-11 17:03:39
-2025-11-11 17:03:39
-2025-11-11 17:03:40
-2025-11-11 17:03:39
-2025-11-11 17:03:39
-2025-11-11 17:03:40
-2025-11-11 17:03:40
-2025-11-11 17:03:40
-2025-11-11 17:03:40
-2025-11-11 17:03:40
-2025-04-09 15:56:21
-2025-11-11 17:03:40
-2025-11-11 17:03:40
-2025-11-11 17:03:40
-2025-11-11 17:03:40
-2025-11-11 17:03:40
-2025-11-11 17:03:40
-2025-11-11 17:03:40
-2025-11-11 17:03:40
-2025-11-11 17:03:40
-2025-11-11 17:03:41
-2025-11-11 17:03:41
-2025-11-11 17:03:41
-2025-11-11 17:03:41
-2025-11-11 17:03:40
-2025-11-11 17:03:40
-2025-11-11 17:03:40
-2025-11-11 17:03:40
-2025-11-11 17:03:41
-2025-11-11 17:03:41
-2025-11-11 17:03:41
-2025-11-11 17:03:41
-2025-11-11 17:03:41
-2025-11-11 17:03:41
-2025-11-11 17:03:41
-2025-11-11 17:03:41
-2025-11-11 17:03:41
-2025-11-11 17:03:41
-2025-11-11 17:03:41
-2025-11-11 17:03:41
-2025-11-11 17:03:41
-2025-11-11 17:03:41
-2025-11-11 17:03:41
-2025-11-11 17:03:41
-2025-11-11 17:03:41
-2025-11-11 17:03:42
-2025-11-11 17:03:02
-2025-11-11 17:03:02
-2025-11-11 17:03:02
-2025-11-11 17:03:02
-2025-11-11 17:03:02
-2025-11-11 17:03:02
-2025-11-11 17:03:03
-2025-11-11 17:03:02
-2025-11-11 17:03:02
-2025-11-11 17:03:03
-2025-11-11 17:03:03
-2025-11-11 17:03:03
-2025-11-11 17:03:03
-2025-11-11 17:03:03
-2025-11-11 17:03:03
-2025-11-11 17:03:03
-2025-11-11 17:03:03
-2025-11-11 17:03:03
-2025-11-11 17:03:03
-2025-11-11 17:03:03
-2025-11-11 17:03:03
-2025-11-11 17:03:03
-2025-11-11 17:03:03
-2025-11-11 17:03:03
-2025-11-11 17:03:03
-2025-11-11 17:03:03
-2025-11-11 17:03:03
-2025-11-11 17:03:03
-2025-11-11 17:03:03
-2025-11-11 17:03:03
-2025-11-11 17:03:03
-2025-11-11 17:03:03
-2025-11-11 17:03:03
-2025-11-11 17:03:03
-2025-11-11 17:03:03
-2025-11-11 17:03:03
-2025-11-11 17:03:03
-2025-11-11 17:03:03
-2025-11-11 17:03:03
-2025-11-11 17:03:03
-2025-11-11 17:03:03
-2025-11-11 17:03:03
-2025-11-11 17:03:03
-2025-11-11 17:03:03
-2025-11-11 17:03:03
-2025-11-11 17:03:03
-2025-11-11 17:03:03
-2025-11-11 17:03:03
-2025-11-11 17:03:03
-2025-11-11 17:03:03
-2025-11-11 17:03:03
-2025-11-11 17:03:04
-2025-11-11 17:03:04
-2025-11-11 17:03:04
-2025-11-11 17:03:04
-2025-11-11 17:03:04
-2025-11-11 17:03:04
-2025-11-11 17:03:04
-2025-11-11 17:03:04
-2025-11-11 17:03:04
-2025-11-11 17:03:04
-2025-11-11 17:03:04
-2025-11-11 17:03:04
-2025-11-11 17:03:04
-2025-11-11 17:03:04
-2025-11-11 17:03:04
-2025-11-11 17:03:04
-2025-11-11 17:03:04
-2025-11-11 17:03:04
-2025-11-11 17:03:04
-2025-11-11 17:03:04
-2025-11-11 17:03:04
-2025-11-11 17:03:04
-2025-11-11 17:03:04
-2025-11-11 17:03:04
-2025-11-11 17:03:04
-2025-11-11 17:03:04
-2025-11-11 17:03:04
-2025-11-11 17:03:04
-2025-11-11 17:03:04
-2025-11-11 17:03:05
-2025-11-11 17:03:05
-2025-11-11 17:03:05
-2025-11-11 17:03:05
-2025-11-11 17:03:05
-2025-11-11 17:03:05
-2025-11-11 17:03:05
-2025-11-11 17:03:05
-2025-11-11 17:03:05
-2025-11-11 17:03:05
-2025-11-11 17:03:05
-2025-11-11 17:03:05
-2025-11-11 17:03:05
-2025-11-11 17:03:05
-2025-11-11 17:03:05
-2025-11-11 17:03:06
-2025-11-11 17:03:05
-2025-11-11 17:03:05
-2025-11-11 17:02:31
-2025-11-11 17:03:05
-2025-11-11 17:03:05
-2025-11-11 17:03:05
-2025-11-11 17:03:05
-2025-11-11 17:03:05
-2025-11-11 17:03:05
-2025-11-11 17:03:05
-2025-11-11 17:03:05
-2025-11-11 17:03:05
-2025-11-11 17:03:05
-2025-11-11 17:03:06
-2025-11-11 17:03:06
-2025-11-11 17:03:06
-2025-11-11 17:03:06
-2025-11-11 17:03:06
-2025-11-11 17:03:06
-2025-11-11 17:03:06
-2025-11-11 17:03:06
-2025-11-11 17:03:06
-2025-11-11 17:03:06
-2025-11-11 17:03:06
-2025-11-11 17:03:06
-2025-11-11 17:03:06
-2025-11-11 17:03:06
-2025-11-11 17:03:06
-2025-11-11 17:03:06
-2025-11-11 17:03:06
-2025-11-11 17:03:06
-2025-11-11 17:03:06
-2025-11-11 17:03:06
-2025-11-11 17:03:06
-2025-11-11 17:03:06
-2025-11-11 17:03:07
-2025-11-11 17:03:10
-2025-11-11 17:03:06
-2025-11-11 17:03:06
-2025-11-11 17:03:06
-2025-11-11 17:03:06
-2025-11-11 17:03:06
-2025-11-11 17:03:07
-2025-11-11 17:03:07
-2025-11-11 17:03:07
-2025-11-11 17:03:07
-2025-11-11 17:03:07
-2025-11-11 17:03:07
-2025-11-11 17:03:07
-2025-11-11 17:03:07
-2025-11-11 17:03:07
-2025-11-11 17:03:07
-2025-11-11 17:03:07
-2025-11-11 17:03:07
-2025-11-11 17:03:07
-2025-11-11 17:03:07
-2025-11-11 17:03:07
-2025-11-11 17:03:07
-2025-11-11 17:03:07
-2025-11-11 17:03:07
-2025-11-11 17:03:07
-2025-11-11 17:03:07
-2025-11-11 17:03:07
-2025-11-11 17:03:07
-2025-11-11 17:03:07
-2025-11-11 17:03:07
-2025-11-11 17:03:07
-2025-11-11 17:03:07
-2025-11-11 17:03:07
-2025-11-11 17:03:07
-2025-11-11 17:03:07
-2025-11-11 17:03:08
-2025-11-11 17:03:08
-2025-11-11 17:03:08
-2025-11-11 17:03:08
-2025-04-09 15:56:04
-2025-11-11 17:03:08
-2025-11-11 17:03:08
-2025-11-11 17:03:08
-2025-11-11 17:03:08
-2025-11-11 17:03:08
-2025-11-11 17:03:08
-2025-11-11 17:03:08
-2025-11-11 17:03:08
-2025-11-11 17:03:08
-2025-11-11 17:03:08
-2025-11-11 17:03:08
-2025-11-11 17:03:08
-2025-11-11 17:03:08
-2025-11-11 17:03:08
-2025-11-11 17:03:08
-2025-11-11 17:03:08
-2025-11-11 17:03:08
-2025-11-11 17:03:08
-2025-11-11 17:03:08
-2025-11-11 17:03:08
-2025-11-11 17:03:08
-2025-11-11 17:03:08
-2025-11-11 17:03:08
-2025-11-11 17:03:08
-2025-11-11 17:03:09
-2025-04-09 15:56:05
-2025-11-11 17:03:09
-2025-11-11 17:03:09
-2025-11-11 17:03:08
-2025-11-11 17:03:08
-2025-11-11 17:03:08
-2025-11-11 17:03:09
-2025-11-11 17:03:09
-2025-11-11 17:03:09
-2025-11-11 17:03:09
-2025-11-11 17:03:09
-2025-11-11 17:03:09
-2025-11-11 17:03:09
-2025-11-11 17:03:09
-2025-11-11 17:03:09
-2025-11-11 17:03:09
-2025-11-11 17:03:09
-2025-11-11 17:03:09
-2025-11-11 17:03:09
-2025-11-11 17:03:09
-2025-11-11 17:03:09
-2025-11-11 17:03:09
-2025-11-11 17:03:09
-2025-11-11 17:03:09
-2025-11-11 17:03:09
-2025-11-11 17:03:09
-2025-11-11 17:03:09
-2025-11-11 17:03:09
-2025-11-11 17:03:09
-2025-11-11 17:03:09
-2025-11-11 17:03:09
-2025-11-11 17:03:09
-2025-11-11 17:03:09
-2025-11-11 17:03:09
-2025-11-11 17:03:09
-2025-11-11 17:03:09
-2025-11-11 17:03:09
-2025-11-11 17:03:09
-2025-11-11 17:03:09
-2025-11-11 17:03:09
-2025-04-09 15:56:05
-2025-11-11 17:03:09
-2025-11-11 17:03:09
-2025-11-11 17:03:09
-2025-11-11 17:03:09
-2025-11-11 17:03:10
-2025-11-11 17:03:10
-2025-11-11 17:03:10
-2025-11-11 17:03:10
-2025-11-11 17:03:10
-2025-11-11 17:03:10
-2025-11-11 17:03:10
-2025-11-11 17:03:10
-2025-11-11 17:03:10
-2025-11-11 17:03:10
-2025-11-11 17:03:10
-2025-11-11 17:03:10
-2025-11-11 17:03:10
-2025-11-11 17:03:10
-2025-11-11 17:03:10
-2025-11-11 17:03:12
-2025-11-11 17:03:10
-2025-11-11 17:03:10
-2025-11-11 17:03:10
-2025-11-11 17:03:10
-2025-11-11 17:03:10
-2025-11-11 17:03:10
-2025-11-11 17:03:10
-2025-04-09 15:56:06
-2025-11-11 17:03:10
-2025-11-11 17:03:10
-2025-11-11 17:03:10
-2025-11-11 17:03:10
-2025-11-11 17:03:10
-2025-11-11 17:03:10
-2025-11-11 17:03:10
-2025-11-11 17:03:10
-2025-11-11 17:03:10
-2025-11-11 17:03:10
-2025-11-11 17:03:10
-2025-11-11 17:03:11
-2025-11-11 17:03:11
-2025-11-11 17:03:11
-2025-11-11 17:03:11
-2025-11-11 17:03:11
-2025-11-11 17:03:11
-2025-11-11 17:03:11
-2025-11-11 17:03:11
-2025-11-11 17:03:11
-2025-11-11 17:03:11
-2025-11-11 17:03:11
-2025-11-11 17:03:11
-2025-11-11 17:03:11
-2025-11-11 17:03:11
-2025-11-11 17:03:11
-2025-11-11 17:03:11
-2025-11-11 17:03:11
-2025-11-11 17:03:11
-2025-11-11 17:03:11
-2025-11-11 17:03:11
-2025-11-11 17:03:11
-2025-11-11 17:03:11
-2025-11-11 17:03:11
-2025-11-11 17:03:11
-2025-11-11 17:03:11
-2025-11-11 17:03:11
-2025-11-11 17:03:11
-2025-11-11 17:03:12
-2025-11-11 17:03:12
-2025-11-11 17:03:12
-2025-11-11 17:03:12
-2025-11-11 17:03:12
-2025-11-11 17:03:12
-2025-11-11 17:03:12
-2025-11-11 17:03:12
-2025-11-11 17:03:12
-2025-11-11 17:03:12
-2025-11-11 17:03:12
-2025-11-11 17:03:12
-2025-11-11 17:03:12
-2025-11-11 17:03:12
-2025-11-11 17:03:12
-2025-11-11 17:03:12
-2025-11-11 17:03:12
-2025-11-11 17:03:12
-2025-11-11 17:03:12
-2025-11-11 17:03:12
-2025-11-11 17:03:12
-2025-11-11 17:03:12
-2025-11-11 17:03:12
-2025-11-11 17:03:12
-2025-11-11 17:03:12
-2025-11-11 17:03:12
-2025-11-11 17:03:12
-2025-11-11 17:03:12
-2025-11-11 17:03:13
-2025-11-11 17:03:13
-2025-11-11 17:03:13
-2025-11-11 17:03:13
-2025-11-11 17:03:13
-2025-11-11 17:03:13
-2025-11-11 17:03:13
-2025-11-11 17:03:13
-2025-11-11 17:03:13
-2025-04-09 15:56:07
-2025-11-11 17:03:13
-2025-11-11 17:03:13
-2025-11-11 17:03:13
-2025-11-11 17:03:13
-2025-11-11 17:03:13
-2025-11-11 17:03:13
-2025-11-11 17:03:13
-2025-11-11 17:03:13
-2025-11-11 17:03:13
-2025-11-11 17:03:13
-2025-11-11 17:03:13
-2025-11-11 17:03:13
-2025-11-11 17:03:13
-2025-11-11 17:03:13
-2025-11-11 17:03:13
-2025-11-11 17:03:13
-2025-11-11 17:03:13
-2025-11-11 17:03:13
-2025-11-11 17:03:13
-2025-11-11 17:03:13
-2025-11-11 17:03:13
-2025-11-11 17:03:13
-2025-11-11 17:03:13
-2025-11-11 17:03:13
-2025-11-11 17:03:13
-2025-11-11 17:03:13
-2025-11-11 17:03:13
-2025-11-11 17:03:13
-2025-11-11 17:03:13
-2025-11-11 17:03:13
-2025-11-11 17:03:13
-2025-11-11 17:03:13
-2025-11-11 17:03:13
-2025-11-11 17:03:14
-2025-11-11 17:03:14
-2025-11-11 17:03:14
-2025-11-11 17:03:14
-2025-11-11 17:03:14
-2025-11-11 17:03:14
-2025-11-11 17:03:14
-2025-11-11 17:03:14
-2025-11-11 17:03:14
-2025-11-11 17:03:14
-2025-11-11 17:03:14
-2025-11-11 17:03:14
-2025-11-11 17:03:14
-2025-11-11 17:03:14
-2025-11-11 17:03:14
-2025-11-11 17:03:14
-2025-11-11 17:03:14
-2025-11-11 17:03:14
-2025-11-11 17:03:14
-2025-11-11 17:03:14
-2025-11-11 17:03:13
-2025-11-11 17:03:14
-2025-11-11 17:03:14
-2025-11-11 17:03:14
-2025-11-11 17:03:14
-2025-11-11 17:03:14
-2025-11-11 17:03:14
-2025-11-11 17:03:14
-2025-11-11 17:03:14
-2025-11-11 17:03:14
-2025-11-11 17:03:14
-2025-11-11 17:03:14
-2025-11-11 17:03:14
-2025-11-11 17:03:14
-2025-11-11 17:03:14
-2025-11-11 17:03:14
-2025-11-11 17:03:16
-2025-11-11 17:03:17
-2025-11-11 17:03:14
-2025-11-11 17:03:14
-2025-11-11 17:03:14
-2025-11-11 17:03:14
-2025-11-11 17:03:14
-2025-11-11 17:03:14
-2025-11-11 17:03:14
-2025-11-11 17:03:14
-2025-11-11 17:03:15
-2025-11-11 17:03:14
-2025-11-11 17:03:14
-2025-11-11 17:03:14
-2025-11-11 17:03:14
-2025-11-11 17:03:14
-2025-11-11 17:03:15
-2025-11-11 17:03:15
-2025-11-11 17:03:15
-2025-11-11 17:03:14
-2025-11-11 17:03:15
-2025-11-11 17:03:15
-2025-11-11 17:03:15
-2025-04-09 15:56:08
-2025-11-11 17:03:15
-2025-11-11 17:03:15
-2025-11-11 17:03:15
-2025-11-11 17:03:15
-2025-11-11 17:03:15
-2025-11-11 17:03:15
-2025-04-09 15:56:09
-2025-11-11 17:03:15
-2025-11-11 17:03:15
-2025-11-11 17:03:15
-2025-11-11 17:03:15
-2025-11-11 17:03:15
-2025-11-11 17:03:15
-2025-11-11 17:03:15
-2025-11-11 17:03:15
-2025-11-11 17:03:15
-2025-11-11 17:03:16
-2025-11-11 17:03:16
-2025-11-11 17:03:16
-2025-11-11 17:03:16
-2025-11-11 17:03:16
-2025-11-11 17:03:16
-2025-11-11 17:03:16
-2025-11-11 17:03:16
-2025-04-09 15:56:09
-2025-11-11 17:03:16
-2025-11-11 17:03:16
-2025-11-11 17:03:16
-2025-11-11 17:03:16
-2025-11-11 17:03:16
-2025-11-11 17:03:16
-2025-11-11 17:03:16
-2025-11-11 17:03:16
-2025-11-11 17:03:16
-2025-11-11 17:03:16
-2025-11-11 17:03:16
-2025-11-11 17:03:16
-2025-11-11 17:03:16
-2025-11-11 17:03:16
-2025-11-11 17:03:16
-2025-11-11 17:03:16
-2025-11-11 17:03:16
-2025-11-11 17:03:16
-2025-11-11 17:03:16
-2025-11-11 17:03:16
-2025-11-11 17:03:16
-2025-11-11 17:03:17
-2025-11-11 17:03:17
-2025-11-11 17:03:17
-2025-11-11 17:03:17
-2025-11-11 17:03:17
-2025-11-11 17:03:17
-2025-11-11 17:03:17
-2025-11-11 17:03:17
-2025-11-11 17:03:17
-2025-11-11 17:03:17
-2025-11-11 17:03:17
-2025-11-11 17:03:17
-2025-11-11 17:03:17
-2025-11-11 17:03:17
-2025-11-11 17:03:17
-2025-11-11 17:03:17
-2025-11-11 17:03:17
-2025-11-11 17:03:17
-2025-11-11 17:03:17
-2025-11-11 17:03:17
-2025-11-11 17:03:17
-2025-11-11 17:03:18
-2025-11-11 17:03:18
-2025-11-11 17:03:18
-2025-11-11 17:03:18
-2025-11-11 17:03:18
-2025-11-11 17:03:18
-2025-11-11 17:02:42
-2025-11-11 17:03:18
-2025-11-11 17:03:18
-2025-11-11 17:03:18
-2025-11-11 17:03:18
-2025-11-11 17:03:18
-2025-11-11 17:03:18
-2025-11-11 17:03:18
-2025-11-11 17:03:18
-2025-11-11 17:03:18
-2025-04-09 15:56:11
-2025-11-11 17:03:19
-2025-11-11 17:03:19
-2025-11-11 17:03:19
-2025-11-11 17:03:19
-2025-11-11 17:03:19
-2025-11-11 17:03:19
-2025-11-11 17:03:19
-2025-11-11 17:03:19
-2025-11-11 17:03:19
-2025-11-11 17:03:19
-2025-11-11 17:03:19
-2025-11-11 17:03:18
-2025-11-11 17:03:18
-2025-11-11 17:03:18
-2025-11-11 17:03:18
-2025-11-11 17:03:18
-2025-11-11 17:03:18
-2025-11-11 17:03:18
-2025-11-11 17:03:18
-2025-11-11 17:03:18
-2025-11-11 17:03:18
-2025-11-11 17:03:18
-2025-11-11 17:03:18
-2025-11-11 17:03:18
-2025-11-11 17:03:18
-2025-11-11 17:03:18
-2025-11-11 17:03:18
-2025-11-11 17:03:18
-2025-11-11 17:03:18
-2025-11-11 17:03:18
-2025-11-11 17:03:18
-2025-11-11 17:03:19
-2025-11-11 17:03:19
-2025-11-11 17:03:19
-2025-11-11 17:03:19
-2025-11-11 17:03:19
-2025-11-11 17:03:19
-2025-11-11 17:03:19
-2025-11-11 17:03:19
-2025-11-11 17:03:19
-2025-11-11 17:03:19
-2025-11-11 17:03:19
-2025-11-11 17:03:19
-2025-11-11 17:03:19
-2025-11-11 17:03:19
-2025-11-11 17:03:19
-2025-11-11 17:03:19
-2025-11-11 17:03:19
-2025-11-11 17:03:19
-2025-11-11 17:03:19
-2025-11-11 17:03:19
-2025-11-11 17:03:19
-2025-11-11 17:03:20
-2025-11-11 17:03:20
-2025-11-11 17:03:20
-2025-11-11 17:03:20
-2025-11-11 17:03:20
-2025-11-11 17:03:20
-2025-11-11 17:03:20
-2025-11-11 17:03:20
-2025-11-11 17:03:20
-2025-11-11 17:03:20
-2025-11-11 17:03:20
-2025-11-11 17:03:20
-2025-11-11 17:03:20
-2025-11-11 17:03:20
-2025-11-11 17:03:20
-2025-11-11 17:03:20
-2025-11-11 17:03:20
-2025-11-11 17:03:20
-2025-11-11 17:03:20
-2025-11-11 17:03:20
-2025-11-11 17:03:20
-2025-11-11 17:03:20
-2025-11-11 17:03:20
-2025-11-11 17:03:20
-2025-11-11 17:03:20
-2025-11-11 17:03:21
-2025-11-11 17:03:21
-2025-11-11 17:03:20
-2025-11-11 17:03:21
-2025-11-11 17:03:21
-2025-11-11 17:03:20
-2025-11-11 17:03:20
-2025-11-11 17:03:20
-2025-11-11 17:03:20
-2025-11-11 17:03:20
-2025-11-11 17:03:20
-2025-11-11 17:03:21
-2025-11-11 17:03:21
-2025-11-11 17:03:21
-2025-11-11 17:03:21
-2025-11-11 17:03:21
-2025-11-11 17:03:21
-2025-11-11 17:03:21
-2025-11-11 17:03:21
-2025-11-11 17:03:21
-2025-11-11 17:03:21
-2025-11-11 17:03:21
-2025-11-11 17:03:21
-2025-11-11 17:03:21
-2025-11-11 17:03:21
-2025-11-11 17:03:21
-2025-11-11 17:03:21
-2025-11-11 17:03:21
-2025-11-11 17:03:21
-2025-11-11 17:03:21
-2025-11-11 17:03:21
-2025-11-11 17:03:21
-2025-11-11 17:03:22
-2025-11-11 17:03:22
-2025-11-11 17:03:22
-2025-11-11 17:03:21
-2025-11-11 17:03:21
-2025-11-11 17:03:21
-2025-11-11 17:03:21
-2025-11-11 17:03:22
-2025-11-11 17:03:22
-2025-11-11 17:03:22
-2025-11-11 17:03:22
-2025-11-11 17:03:22
-2025-11-11 17:03:22
-2025-11-11 17:03:22
-2025-11-11 17:03:22
-2025-11-11 17:03:22
-2025-11-11 17:03:22
-2025-11-11 17:03:22
-2025-11-11 17:03:22
-2025-11-11 17:03:22
-2025-11-11 17:03:22
-2025-11-11 17:03:22
-2025-11-11 17:03:22
-2025-11-11 17:03:22
-2025-11-11 17:03:22
-2025-11-11 17:03:22
-2025-11-11 17:03:22
-2025-11-11 17:03:22
-2025-11-11 17:03:22
-2025-11-11 17:03:22
-2025-11-11 17:03:23
-2025-11-11 17:03:23
-2025-11-11 17:03:23
-2025-11-11 17:03:23
-2025-11-11 17:03:23
-2025-11-11 17:03:23
-2025-11-11 17:03:23
-2025-11-11 17:03:23
-2025-11-11 17:03:23
-2025-11-11 17:03:22
-2025-11-11 17:03:22
-2025-11-11 17:03:22
-2025-11-11 17:03:22
-2025-11-11 17:03:22
-2025-11-11 17:03:22
-2025-11-11 17:03:23
-2025-11-11 17:03:22
-2025-11-11 17:03:22
-2025-11-11 17:03:22
-2025-11-11 17:03:23
-2025-11-11 17:03:23
-2025-11-11 17:03:23
-2025-11-11 17:03:23
-2025-11-11 17:03:23
-2025-11-11 17:03:23
-2025-11-11 17:03:23
-2025-11-11 17:03:23
-2025-11-11 17:03:23
-2025-11-11 17:03:23
-2025-11-11 17:03:23
-2025-11-11 17:03:23
-2025-11-11 17:03:23
-2025-11-11 17:03:23
-2025-11-11 17:03:23
-2025-11-11 17:03:23
-2025-11-11 17:03:23
-2025-11-11 17:03:23
-2025-11-11 17:03:23
-2025-11-11 17:03:23
-2025-11-11 17:03:23
-2025-11-11 17:03:23
-2025-11-11 17:03:23
-2025-11-11 17:03:23
-2025-11-11 17:03:23
-2025-11-11 17:03:24
-2025-11-11 17:03:24
-2025-11-11 17:03:24
-2025-11-11 17:03:24
-2025-11-11 17:03:24
-2025-11-11 17:03:24
-2025-11-11 17:03:24
-2025-11-11 17:03:24
-2025-11-11 17:03:24
-2025-11-11 17:03:24
-2025-11-11 17:03:24
-2025-11-11 17:03:24
-2025-11-11 17:03:24
-2025-11-11 17:03:24
-2025-11-11 17:03:24
-2025-11-11 17:03:24
-2025-11-11 17:03:25
-2025-11-11 17:03:25
-2025-11-11 17:03:25
-2025-11-11 17:03:25
-2025-11-11 17:03:24
-2025-11-11 17:03:25
-2025-11-11 17:03:25
-2025-11-11 17:03:25
-2025-11-11 17:03:25
-2025-11-11 17:03:25
-2025-11-11 17:03:25
-2025-11-11 17:03:25
-2025-11-11 17:03:25
-2025-11-11 17:03:25
-2025-11-11 17:03:25
-2025-11-11 17:03:25
-2025-11-11 17:03:25
-2025-11-11 17:03:25
-2025-11-11 17:03:25
-2025-11-11 17:03:25
-2025-11-11 17:03:25
-2025-11-11 17:03:25
-2025-11-11 17:03:25
-2025-04-09 15:55:52
-2025-11-11 17:03:25
-2025-11-11 17:03:25
-2025-11-11 17:03:25
-2025-11-11 17:03:25
-2025-11-11 17:03:25
-2025-11-11 17:03:25
-2025-11-11 17:03:25
-2025-11-11 17:03:25
-2025-11-11 17:03:25
-2025-11-11 17:03:25
-2025-11-11 17:03:25
-2025-11-11 17:03:26
-2025-11-11 17:03:26
-2025-11-11 17:03:26
-2025-11-11 17:03:26
-2025-11-11 17:03:26
-2025-11-11 17:03:26
-2025-11-11 17:03:26
-2025-11-11 17:03:26
-2025-11-11 17:03:26
-2025-11-11 17:03:26
-2025-11-11 17:03:26
-2025-11-11 17:03:26
-2025-11-11 17:03:26
-2025-11-11 17:03:26
-2025-11-11 17:03:26
-2025-11-11 17:03:26
-2025-11-11 17:03:26
-2025-11-11 17:03:26
-2025-11-11 17:03:26
-2025-11-11 17:03:26
-2025-11-11 17:03:26
-2025-11-11 17:03:26
-2025-11-11 17:03:26
-2025-11-11 17:03:26
-2025-11-11 17:03:26
-2025-11-11 17:03:26
-2025-11-11 17:03:26
-2025-11-11 17:03:26
-2025-11-11 17:03:26
-2025-11-11 17:03:26
-2025-11-11 17:03:26
-2025-11-11 17:03:26
-2025-11-11 17:03:26
-2025-11-11 17:03:26
-2025-11-11 17:03:27
-2025-11-11 17:03:27
-2025-11-11 17:03:29
-2025-11-11 17:03:29
-2025-11-11 17:03:27
-2025-11-11 17:03:27
-2025-11-11 17:03:27
-2025-11-11 17:03:27
-2025-11-11 17:03:27
-2025-11-11 17:03:27
-2025-11-11 17:03:27
-2025-11-11 17:03:27
-2025-11-11 17:03:27
-2025-04-09 15:56:14
-2025-11-11 17:03:27
-2025-11-11 17:03:27
-2025-11-11 17:03:27
-2025-11-11 17:03:27
-2025-11-11 17:03:27
-2025-11-11 17:03:27
-2025-11-11 17:03:27
-2025-11-11 17:03:27
-2025-11-11 17:03:27
-2025-04-09 15:56:15
-2025-11-11 17:03:27
-2025-11-11 17:03:27
-2025-11-11 17:03:27
-2025-11-11 17:03:27
-2025-11-11 17:03:27
-2025-11-11 17:03:27
-2025-11-11 17:03:27
-2025-11-11 17:03:27
-2025-11-11 17:03:27
-2025-11-11 17:03:27
-2025-11-11 17:03:27
-2025-11-11 17:03:27
-2025-11-11 17:03:27
-2025-11-11 17:03:27
-2025-11-11 17:03:28
-2025-11-11 17:03:28
-2025-11-11 17:03:28
-2025-11-11 17:03:28
-2025-11-11 17:03:28
-2025-11-11 17:03:28
-2025-11-11 17:03:28
-2025-11-11 17:03:28
-2025-11-11 17:03:28
-2025-11-11 17:03:28
-2025-11-11 17:03:28
-2025-11-11 17:03:28
-2025-11-11 17:03:28
-2025-11-11 17:03:28
-2025-11-11 17:03:28
-2025-11-11 17:03:28
-2025-11-11 17:03:28
-2025-11-11 17:03:28
-2025-11-11 17:03:28
-2025-11-11 17:03:28
-2025-11-11 17:03:28
-2025-11-11 17:03:28
-2025-11-11 17:03:28
-2025-11-11 17:03:28
-2025-11-11 17:03:28
-2025-11-11 17:03:28
-2025-11-11 17:03:28
-2025-11-11 17:03:28
-2025-11-11 17:03:28
-2025-11-11 17:03:28
-2025-11-11 17:03:28
-2025-11-11 17:03:28
-2025-11-11 17:03:28
-2025-11-11 17:03:28
-2025-11-11 17:03:28
-2025-11-11 17:03:28
-2025-11-11 17:03:29
-2025-11-11 17:03:29
-2025-11-11 17:03:29
-2025-11-11 17:03:29
-2025-11-11 17:03:29
-2025-11-11 17:03:29
-2025-11-11 17:03:29
-2025-11-11 17:03:29
-2025-11-11 17:03:29
-2025-11-11 17:03:29
-2025-11-11 17:03:29
-2025-11-11 17:03:29
-2025-11-11 17:03:29
-2025-11-11 17:03:29
-2025-11-11 17:03:29
-2025-11-11 17:03:29
-2025-11-11 17:03:29
-2025-11-11 17:03:29
-2025-11-11 17:03:29
-2025-11-11 17:03:29
-2025-11-11 17:03:29
-2025-11-11 17:03:29
-2025-11-11 17:03:29
-2025-11-11 17:03:29
-2025-11-11 17:03:29
-2025-11-11 17:03:29
-2025-11-11 17:03:29
-2025-11-11 17:03:29
-2025-11-11 17:03:29
-2025-11-11 17:03:30
-2025-11-11 17:03:30
-2025-11-11 17:03:30
-2025-11-11 17:03:31
-2025-11-11 17:03:31
-2025-11-11 17:03:31
-2025-11-11 17:03:32
-2025-11-11 17:03:32
-2025-11-11 17:03:32
-2025-11-11 17:03:32
-2025-11-11 17:03:32
-2025-11-11 17:03:33
-2025-11-11 17:03:29
-2025-11-11 17:03:30
-2025-11-11 17:03:30
-2025-11-11 17:03:30
-2025-11-11 17:03:30
-2025-11-11 17:03:30
-2025-11-11 17:03:30
-2025-11-11 17:03:30
-2025-11-11 17:03:30
-2025-11-11 17:03:30
-2025-11-11 17:03:30
-2025-11-11 17:03:30
-2025-11-11 17:03:30
-2025-11-11 17:03:30
-2025-11-11 17:03:30
-2025-11-11 17:03:30
-2025-11-11 17:03:30
-2025-11-11 17:03:31
-2025-11-11 17:03:30
-2025-11-11 17:03:30
-2025-11-11 17:03:31
-2025-11-11 17:03:31
-2025-11-11 17:03:31
-2025-11-11 17:03:31
-2025-11-11 17:03:31
-2025-11-11 17:03:31
-2025-11-11 17:03:31
-2025-11-11 17:03:31
-2025-11-11 17:03:31
-2025-11-11 17:03:31
-2025-11-11 17:03:31
-2025-11-11 17:03:31
-2025-11-11 17:03:31
-2025-11-11 17:03:31
-2025-11-11 17:03:31
-2025-11-11 17:03:31
-2025-11-11 17:03:31
-2025-11-11 17:03:31
-2025-11-11 17:03:31
-2025-11-11 17:03:31
-2025-11-11 17:03:31
-2025-11-11 17:03:32
-2025-11-11 17:03:32
-2025-11-11 17:03:32
-2025-11-11 17:03:32
-2025-11-11 17:03:32
-2025-11-11 17:03:32
-2025-11-11 17:03:32
-2025-11-11 17:03:32
-2025-11-11 17:03:32
-2025-11-11 17:03:32
-2025-11-11 17:03:32
-2025-11-11 17:02:55
-2025-11-11 17:03:32
-2025-11-11 17:03:32
-2025-11-11 17:02:55
-2025-11-11 17:03:37
-2025-11-11 17:03:37
-2025-11-11 17:03:37
-2025-11-11 17:03:33
-2025-11-11 17:03:33
-2025-11-11 17:03:33
-2025-11-11 17:03:33
-2025-11-11 17:03:33
-2025-11-11 17:03:33
-2025-11-11 17:03:33
-2025-11-11 17:03:33
-2025-11-11 17:03:33
-2025-11-11 17:03:33
-2025-11-11 17:03:33
-2025-11-11 17:03:33
-2025-11-11 17:03:33
-2025-11-11 17:03:33
-2025-11-11 17:03:33
-2025-11-11 17:03:33
-2025-11-11 17:03:33
-2025-11-11 17:03:33
-2025-11-11 17:03:33
-2025-11-11 17:03:33
-2025-11-11 17:03:33
-2025-11-11 17:03:33
-2025-11-11 17:03:33
-2025-11-11 17:03:33
-2025-11-11 17:03:33
-2025-11-11 17:03:33
-2025-11-11 17:03:34
-2025-11-11 17:03:34
-2025-11-11 17:03:34
-2025-11-11 17:03:34
-2025-11-11 17:03:34
-2025-11-11 17:03:34
-2025-11-11 17:03:34
-2025-11-11 17:03:34
-2025-11-11 17:03:34
-2025-11-11 17:03:34
-2025-11-11 17:03:34
-2025-11-11 17:03:34
-2025-11-11 17:03:34
-2025-11-11 17:03:34
-2025-11-11 17:03:34
-2025-11-11 17:03:34
-2025-11-11 17:03:34
-2025-11-11 17:03:33
-2025-11-11 17:03:33
-2025-11-11 17:03:33
-2025-11-11 17:03:33
-2025-11-11 17:03:33
-2025-11-11 17:03:33
-2025-11-11 17:03:33
-2025-11-11 17:03:33
-2025-11-11 17:03:33
-2025-11-11 17:03:34
-2025-11-11 17:03:34
-2025-11-11 17:03:34
-2025-11-11 17:03:34
-2025-11-11 17:03:34
-2025-11-11 17:03:34
-2025-11-11 17:03:34
-2025-11-11 17:03:34
-2025-11-11 17:03:34
-2025-11-11 17:03:34
-2025-11-11 17:03:34
-2025-11-11 17:03:34
-2025-11-11 17:03:34
-2025-11-11 17:03:34
-2025-11-11 17:03:34
-2025-11-11 17:03:34
-2025-11-11 17:03:34
-2025-11-11 17:03:34
-2025-11-11 17:03:34
-2025-11-11 17:03:34
-2025-11-11 17:03:34
-2025-11-11 17:03:34
-2025-11-11 17:03:34
-2025-11-11 17:03:34
-2025-11-11 17:03:34
-2025-11-11 17:03:34
-2025-11-11 17:03:35
-2025-11-11 17:03:35
-2025-11-11 17:03:35
-2025-11-11 17:03:34
-2025-11-11 17:03:35
-2025-11-11 17:03:35
-2025-11-11 17:03:35
-2025-11-11 17:03:35
-2025-11-11 17:03:35
-2025-11-11 17:03:35
-2025-11-11 17:03:35
-2025-11-11 17:03:35
-2025-11-11 17:03:35
-2025-11-11 17:03:35
-2025-11-11 17:03:35
-2025-11-11 17:03:35
-2025-11-11 17:03:35
-2025-11-11 17:03:35
-2025-11-11 17:03:35
-2025-11-11 17:03:35
-2025-11-11 17:03:35
-2025-11-11 17:03:35
-2025-11-11 17:03:35
-2025-11-11 17:03:35
-2025-11-11 17:03:35
-2025-11-11 17:03:35
-2025-11-11 17:03:35
-2025-11-11 17:03:35
-2025-11-11 17:03:35
-2025-11-11 17:03:36
-2025-11-11 17:03:36
-2025-11-11 17:03:36
-2025-11-11 17:03:36
-2025-11-11 17:03:36
-2025-11-11 17:03:36
-2025-11-11 17:03:36
-2025-11-11 17:03:36
-2025-11-11 17:03:36
-2025-11-11 17:03:36
-2025-11-11 17:03:36
-2025-11-11 17:03:36
-2025-11-11 17:03:36
-2025-11-11 17:03:36
-2025-11-11 17:03:36
-2025-11-11 17:03:36
-2025-11-11 17:03:36
-2025-11-11 17:03:36
-2025-11-11 17:03:36
-2025-11-11 17:03:36
-2025-11-11 17:03:36
-2025-11-11 17:03:36
-2025-11-11 17:03:36
-2025-11-11 17:03:36
-2025-11-11 17:03:36
-2025-11-11 17:03:36
-2025-11-11 17:03:36
-2025-11-11 17:03:36
-2025-11-11 17:03:37
-2025-11-11 17:03:37
-2025-11-11 17:03:37
-2025-11-11 17:03:37
-2025-11-11 17:03:37
-2025-11-11 17:03:37
-2025-11-11 17:03:37
-2025-11-11 17:03:37
-2025-11-11 17:03:37
-2025-11-11 17:03:37
-2025-11-11 17:03:37
-2025-11-11 17:03:37
-2025-11-11 17:03:37
-2025-11-11 17:03:37
-2025-11-11 17:03:37
-2025-11-11 17:03:37
-2025-11-11 17:03:37
-2025-11-11 17:03:37
-2025-11-11 17:03:37
-2025-04-09 15:56:20
-2025-11-11 17:03:37
-2025-11-11 17:03:37
-2025-11-11 17:03:37
-2025-11-11 17:03:37
-2025-11-11 17:03:37
-2025-11-11 17:03:38
-2025-11-11 17:03:38
-2025-11-11 17:03:38
-2025-11-11 17:03:38
-2025-04-09 15:56:20
-2025-11-11 17:03:38
-2025-11-11 17:03:38
-2025-11-11 17:03:38
-2025-11-11 17:03:38
-2025-11-11 17:03:38
-2025-11-11 17:03:38
-2025-11-11 17:03:38
-2025-11-11 17:03:38
-2025-11-11 17:03:38
-2025-11-11 17:03:38
-2025-11-11 17:03:38
-2025-04-09 15:56:20
-2025-11-11 17:03:38
-2025-11-11 17:03:38
-2025-11-11 17:03:38
-2025-11-11 17:03:38
-2025-11-11 17:03:38
-2025-11-11 17:03:38
-2025-11-11 17:03:39
-2025-11-11 17:03:40
-2025-11-11 17:03:40
-2025-11-11 17:03:40
-2025-11-11 17:03:39
-2025-11-11 17:03:38
-2025-11-11 17:03:38
-2025-11-11 17:03:38
-2025-11-11 17:03:38
-2025-11-11 17:03:39
-2025-11-11 17:03:39
-2025-11-11 17:03:39
-2025-11-11 17:03:39
-2025-11-11 17:03:39
-2025-11-11 17:03:39
-2025-11-11 17:03:39
-2025-11-11 17:03:39
-2025-11-11 17:03:39
-2025-11-11 17:03:39
-2025-11-11 17:03:39
-2025-11-11 17:03:39
-2025-11-11 17:03:39
-2025-11-11 17:03:39
-2025-11-11 17:03:39
-2025-11-11 17:03:39
-2025-11-11 17:03:39
-2025-11-11 17:03:39
-2025-11-11 17:03:39
-2025-11-11 17:03:39
-2025-11-11 17:03:39
-2025-11-11 17:03:39
-2025-11-11 17:03:39
-2025-11-11 17:03:39
-2025-11-11 17:03:39
-2025-11-11 17:03:39
-2025-11-11 17:03:39
-2025-11-11 17:03:39
-2025-11-11 17:03:39
-2025-11-11 17:03:39
-2025-11-11 17:03:39
-2025-11-11 17:03:40
-2025-11-11 17:03:40
-2025-11-11 17:03:40
-2025-11-11 17:03:40
-2025-11-11 17:03:40
-2025-11-11 17:03:40
-2025-11-11 17:03:40
-2025-11-11 17:03:40
-2025-04-09 15:56:21
-2025-11-11 17:03:40
-2025-11-11 17:03:40
-2025-11-11 17:03:40
-2025-11-11 17:03:40
-2025-11-11 17:03:40
-2025-11-11 17:03:40
-2025-11-11 17:03:40
-2025-11-11 17:03:40
-2025-11-11 17:03:40
-2025-11-11 17:03:40
-2025-11-11 17:03:40
-2025-11-11 17:03:40
-2025-11-11 17:03:40
-2025-11-11 17:03:40
-2025-11-11 17:03:40
-2025-11-11 17:03:40
-2025-11-11 17:03:40
-2025-11-11 17:03:41
-2025-11-11 17:03:41
-2025-11-11 17:03:41
-2025-11-11 17:03:41
-2025-11-11 17:03:41
-2025-11-11 17:03:41
-2025-11-11 17:03:41
-2025-11-11 17:03:41
-2025-11-11 17:03:41
-2025-11-11 17:03:41
-2025-11-11 17:03:41
-2025-11-11 17:03:41
-2025-11-11 17:03:41
-2025-11-11 17:03:41
-2025-11-11 17:03:41
-2025-11-11 17:03:41
-2025-11-11 17:03:41
-2025-11-11 17:03:41
-2025-11-11 17:03:41
-2025-11-11 17:03:41
-2025-11-11 17:03:41
-2025-11-11 17:03:41
-2025-11-11 17:03:41
-2025-11-11 17:03:41
-2025-11-11 17:03:41
-2025-11-11 17:03:41
-2025-11-11 17:03:41
-2025-11-11 17:03:41
-2025-11-11 17:03:41
-2025-11-11 17:03:41
-2025-11-11 17:03:41
-2025-11-11 17:03:41
-2025-11-11 17:03:41
-2025-11-11 17:03:42
-2025-04-09 15:56:22
7.1 KiB2025-11-11 17:02:02
7.1 KiB2025-11-11 17:02:02
7.0 KiB2025-11-11 17:02:02
522.6 KiB2025-11-11 17:02:01
2.6 KiB2025-11-11 17:02:02
343.5 KiB2025-11-11 17:02:01
3.3 KiB2025-11-11 17:02:02
1.3 MiB2025-11-11 17:03:46
7.1 KiB2025-11-11 17:02:02
617.0 KiB2025-11-11 17:02:02
3.4 MiB2025-11-11 17:03:46
7.1 KiB2025-11-04 17:02:01
628.8 KiB2025-11-04 17:02:01
3.4 MiB2025-11-04 17:05:49
8.3 MiB2025-11-11 17:03:50
243.2 KiB2025-11-11 17:02:01
7.5 KiB2025-11-11 17:02:02
537.2 KiB2025-11-11 17:02:02
3.0 MiB2025-11-11 17:03:43
6.9 KiB2025-08-15 16:02:47
468.0 KiB2025-08-15 16:02:47
3.4 MiB2025-08-15 16:12:54
393.9 KiB2025-11-11 17:02:01
11.9 KiB2025-11-11 17:02:02
6.0 KiB2025-11-11 17:02:02
45.1 MiB2025-11-11 17:04:33
0 B2025-11-11 17:02:01
8.1 KiB2025-10-25 16:01:58
483.2 KiB2025-10-25 16:01:58
2.0 MiB2025-10-25 16:07:40