Package: seqpac Version: 1.9.1 Command: chmod a+r seqpac -R && F:\biocbuild\bbs-3.22-bioc\R\bin\R.exe CMD build --keep-empty-dirs --no-resave-data seqpac StartedAt: 2025-08-15 13:16:01 -0400 (Fri, 15 Aug 2025) EndedAt: 2025-08-15 13:19:59 -0400 (Fri, 15 Aug 2025) EllapsedTime: 237.8 seconds RetCode: 0 Status: OK PackageFile: seqpac_1.9.1.tar.gz PackageFileSize: 2.597 MiB