Package: seqpac Version: 1.11.0 Command: /home/biocbuild/bbs-3.23-bioc/R/bin/R CMD INSTALL seqpac StartedAt: 2025-11-07 13:00:16 -0500 (Fri, 07 Nov 2025) EndedAt: 2025-11-07 13:00:29 -0500 (Fri, 07 Nov 2025) EllapsedTime: 12.3 seconds RetCode: 0 Status: OK