Package: seqpac Version: 1.11.0 Command: /home/biocbuild/bbs-3.23-bioc/R/bin/R CMD build --keep-empty-dirs --no-resave-data seqpac StartedAt: 2025-11-07 13:09:17 -0500 (Fri, 07 Nov 2025) EndedAt: 2025-11-07 13:12:37 -0500 (Fri, 07 Nov 2025) EllapsedTime: 199.9 seconds RetCode: 0 Status: OK PackageFile: seqpac_1.11.0.tar.gz PackageFileSize: 3.093 MiB