Package: rnaseqGene Version: 1.33.0 Command: chmod a+r rnaseqGene -R && F:\biocbuild\bbs-3.22-bioc\R\bin\R.exe CMD build --keep-empty-dirs --no-resave-data rnaseqGene StartedAt: 2025-08-15 13:14:47 -0400 (Fri, 15 Aug 2025) EndedAt: 2025-08-15 13:17:36 -0400 (Fri, 15 Aug 2025) EllapsedTime: 169.1 seconds RetCode: 0 Status: OK PackageFile: rnaseqGene_1.33.0.tar.gz PackageFileSize: 693.2 KiB