Package: rnaseqDTU Version: 1.29.0 Command: F:\biocbuild\bbs-3.22-bioc\R\bin\R.exe CMD INSTALL rnaseqDTU StartedAt: 2025-08-15 13:01:57 -0400 (Fri, 15 Aug 2025) EndedAt: 2025-08-15 13:02:40 -0400 (Fri, 15 Aug 2025) EllapsedTime: 43.1 seconds RetCode: 0 Status: OK