Package: recountWorkflow Version: 1.35.0 Command: /home/biocbuild/bbs-3.23-bioc/R/bin/R CMD build --keep-empty-dirs --no-resave-data recountWorkflow StartedAt: 2025-11-07 13:05:37 -0500 (Fri, 07 Nov 2025) EndedAt: 2025-11-07 13:21:26 -0500 (Fri, 07 Nov 2025) EllapsedTime: 948.7 seconds RetCode: 0 Status: OK PackageFile: recountWorkflow_1.35.0.tar.gz PackageFileSize: 4.327 MiB