Package: methylationArrayAnalysis Version: 1.35.0 Command: /home/biocbuild/bbs-3.23-bioc/R/bin/R CMD build --keep-empty-dirs --no-resave-data methylationArrayAnalysis StartedAt: 2025-11-07 13:05:25 -0500 (Fri, 07 Nov 2025) EndedAt: 2025-11-07 13:17:34 -0500 (Fri, 07 Nov 2025) EllapsedTime: 729.2 seconds RetCode: 0 Status: OK PackageFile: methylationArrayAnalysis_1.35.0.tar.gz PackageFileSize: 218.6 MiB