Package: maEndToEnd Version: 2.31.0 Command: /home/biocbuild/bbs-3.23-bioc/R/bin/R CMD INSTALL maEndToEnd StartedAt: 2025-11-07 13:00:47 -0500 (Fri, 07 Nov 2025) EndedAt: 2025-11-07 13:01:16 -0500 (Fri, 07 Nov 2025) EllapsedTime: 29.1 seconds RetCode: 0 Status: OK