Package: liftOver Version: 1.35.0 Command: /home/biocbuild/bbs-3.23-bioc/R/bin/R CMD INSTALL liftOver StartedAt: 2025-11-25 13:00:59 -0500 (Tue, 25 Nov 2025) EndedAt: 2025-11-25 13:01:34 -0500 (Tue, 25 Nov 2025) EllapsedTime: 35.5 seconds RetCode: 0 Status: OK