Package: cytofWorkflow Version: 1.35.0 Command: /home/biocbuild/bbs-3.23-bioc/R/bin/R CMD build --keep-empty-dirs --no-resave-data cytofWorkflow StartedAt: 2025-11-07 13:04:17 -0500 (Fri, 07 Nov 2025) EndedAt: 2025-11-07 13:08:28 -0500 (Fri, 07 Nov 2025) EllapsedTime: 251.1 seconds RetCode: 0 Status: OK PackageFile: cytofWorkflow_1.35.0.tar.gz PackageFileSize: 6.574 MiB