Package: annotation Version: 1.35.0 Command: /home/biocbuild/bbs-3.23-bioc/R/bin/R CMD INSTALL annotation StartedAt: 2025-11-14 13:00:55 -0500 (Fri, 14 Nov 2025) EndedAt: 2025-11-14 13:01:25 -0500 (Fri, 14 Nov 2025) EllapsedTime: 30.1 seconds RetCode: 0 Status: OK