Package: TCGAWorkflow Version: 1.35.0 Command: /home/biocbuild/bbs-3.23-bioc/R/bin/R CMD build --keep-empty-dirs --no-resave-data TCGAWorkflow StartedAt: 2025-11-07 13:10:11 -0500 (Fri, 07 Nov 2025) EndedAt: 2025-11-07 13:10:12 -0500 (Fri, 07 Nov 2025) EllapsedTime: 1.0 seconds RetCode: 1 Status: ERROR PackageFile: None PackageFileSize: NA