Package: SingscoreAMLMutations Version: 1.27.0 Command: /home/biocbuild/bbs-3.23-bioc/R/bin/R CMD INSTALL SingscoreAMLMutations StartedAt: 2025-11-07 13:00:29 -0500 (Fri, 07 Nov 2025) EndedAt: 2025-11-07 13:01:08 -0500 (Fri, 07 Nov 2025) EllapsedTime: 39.6 seconds RetCode: 0 Status: OK