Package: SingscoreAMLMutations Version: 1.27.0 Command: /home/biocbuild/bbs-3.23-bioc/R/bin/R CMD build --keep-empty-dirs --no-resave-data SingscoreAMLMutations StartedAt: 2025-11-07 13:09:59 -0500 (Fri, 07 Nov 2025) EndedAt: 2025-11-07 13:14:38 -0500 (Fri, 07 Nov 2025) EllapsedTime: 278.4 seconds RetCode: 1 Status: ERROR PackageFile: None PackageFileSize: NA