Package: ExpHunterSuite Version: 1.19.0 Command: /home/biocbuild/bbs-3.23-bioc/R/bin/R CMD INSTALL ExpHunterSuite StartedAt: 2025-11-04 13:01:12 -0500 (Tue, 04 Nov 2025) EndedAt: 2025-11-04 13:01:40 -0500 (Tue, 04 Nov 2025) EllapsedTime: 27.2 seconds RetCode: 1 Status: ERROR