Package: ExpHunterSuite Version: 1.19.0 Command: /home/biocbuild/bbs-3.23-bioc/R/bin/R CMD build --keep-empty-dirs --no-resave-data ExpHunterSuite StartedAt: 2025-11-04 13:04:50 -0500 (Tue, 04 Nov 2025) EndedAt: 2025-11-04 13:05:17 -0500 (Tue, 04 Nov 2025) EllapsedTime: 27.0 seconds RetCode: 1 Status: ERROR PackageFile: None PackageFileSize: NA