############################################################################## ############################################################################## ### ### Running command: ### ### /home/biocbuild/bbs-3.23-bioc/R/bin/R CMD build --keep-empty-dirs --no-resave-data ExpHunterSuite ### ############################################################################## ############################################################################## * checking for file ‘ExpHunterSuite/DESCRIPTION’ ... OK * preparing ‘ExpHunterSuite’: * checking DESCRIPTION meta-information ... OK * installing the package (it is needed to build vignettes) ----------------------------------- * installing *source* package ‘ExpHunterSuite’ ... ** this is package ‘ExpHunterSuite’ version ‘1.19.0’ ** using staged installation ** R ** data *** moving datasets to lazyload DB Warning: namespace ‘ExpHunterSuite’ is not available and has been replaced by .GlobalEnv when processing object ‘degh_output’ Warning: namespace ‘ExpHunterSuite’ is not available and has been replaced by .GlobalEnv when processing object ‘degh_output’ ** inst ** byte-compile and prepare package for lazy loading Error: object ‘makeTxDbFromGFF’ is not exported by 'namespace:GenomicFeatures' Execution halted ERROR: lazy loading failed for package ‘ExpHunterSuite’ * removing ‘/tmp/RtmpEbA4fZ/Rinst3aaa9869687496/ExpHunterSuite’ ----------------------------------- ERROR: package installation failed