Package: EGSEA123 Version: 1.33.0 Command: chmod a+r EGSEA123 -R && F:\biocbuild\bbs-3.22-bioc\R\bin\R.exe CMD build --keep-empty-dirs --no-resave-data EGSEA123 StartedAt: 2025-08-15 13:07:16 -0400 (Fri, 15 Aug 2025) EndedAt: 2025-08-15 13:18:53 -0400 (Fri, 15 Aug 2025) EllapsedTime: 696.5 seconds RetCode: 0 Status: OK PackageFile: EGSEA123_1.33.0.tar.gz PackageFileSize: 1.471 MiB