Package: BP4RNAseq Version: 1.19.0 Command: F:\biocbuild\bbs-3.22-bioc\R\bin\R.exe CMD INSTALL BP4RNAseq StartedAt: 2025-08-15 13:01:31 -0400 (Fri, 15 Aug 2025) EndedAt: 2025-08-15 13:01:38 -0400 (Fri, 15 Aug 2025) EllapsedTime: 7.2 seconds RetCode: 0 Status: OK