Package: BP4RNAseq Version: 1.19.0 Command: chmod a+r BP4RNAseq -R && F:\biocbuild\bbs-3.22-bioc\R\bin\R.exe CMD build --keep-empty-dirs --no-resave-data BP4RNAseq StartedAt: 2025-08-15 13:07:16 -0400 (Fri, 15 Aug 2025) EndedAt: 2025-08-15 13:07:33 -0400 (Fri, 15 Aug 2025) EllapsedTime: 16.5 seconds RetCode: 0 Status: OK PackageFile: BP4RNAseq_1.19.0.tar.gz PackageFileSize: 3.037 MiB