Package: BP4RNAseq Version: 1.21.0 Command: /home/biocbuild/bbs-3.23-bioc/R/bin/R CMD INSTALL BP4RNAseq StartedAt: 2025-11-04 13:00:21 -0500 (Tue, 04 Nov 2025) EndedAt: 2025-11-04 13:00:24 -0500 (Tue, 04 Nov 2025) EllapsedTime: 3.1 seconds RetCode: 0 Status: OK