Package: BP4RNAseq Version: 1.21.0 Command: /home/biocbuild/bbs-3.23-bioc/R/bin/R CMD build --keep-empty-dirs --no-resave-data BP4RNAseq StartedAt: 2025-11-04 13:04:50 -0500 (Tue, 04 Nov 2025) EndedAt: 2025-11-04 13:05:00 -0500 (Tue, 04 Nov 2025) EllapsedTime: 10.0 seconds RetCode: 0 Status: OK PackageFile: BP4RNAseq_1.21.0.tar.gz PackageFileSize: 3.037 MiB