Package: yeastGSData Version: 0.49.0 Command: /home/biocbuild/bbs-3.23-bioc/R/bin/R CMD INSTALL yeastGSData StartedAt: 2025-10-30 10:55:34 -0400 (Thu, 30 Oct 2025) EndedAt: 2025-10-30 10:55:39 -0400 (Thu, 30 Oct 2025) EllapsedTime: 5.4 seconds RetCode: 0 Status: OK