Package: yeastGSData Version: 0.49.0 Command: /home/biocbuild/bbs-3.23-bioc/R/bin/R CMD build --keep-empty-dirs --no-resave-data yeastGSData StartedAt: 2025-10-30 11:44:21 -0400 (Thu, 30 Oct 2025) EndedAt: 2025-10-30 11:44:37 -0400 (Thu, 30 Oct 2025) EllapsedTime: 15.4 seconds RetCode: 0 Status: OK PackageFile: yeastGSData_0.49.0.tar.gz PackageFileSize: 8.124 MiB