Package: yeastExpData Version: 0.57.0 Command: /home/biocbuild/bbs-3.23-bioc/R/bin/R CMD check --install=check:yeastExpData.install-out.txt --library=/home/biocbuild/bbs-3.23-bioc/R/site-library --timings yeastExpData_0.57.0.tar.gz StartedAt: 2025-11-04 13:11:13 -0500 (Tue, 04 Nov 2025) EndedAt: 2025-11-04 13:11:37 -0500 (Tue, 04 Nov 2025) EllapsedTime: 23.9 seconds RetCode: 0 Status: WARNINGS CheckDir: yeastExpData.Rcheck Warnings: 4