Package: yeastExpData Version: 0.57.0 Command: /home/biocbuild/bbs-3.23-bioc/R/bin/R CMD build --keep-empty-dirs --no-resave-data yeastExpData StartedAt: 2025-10-30 11:44:13 -0400 (Thu, 30 Oct 2025) EndedAt: 2025-10-30 11:44:21 -0400 (Thu, 30 Oct 2025) EllapsedTime: 8.0 seconds RetCode: 0 Status: OK PackageFile: yeastExpData_0.57.0.tar.gz PackageFileSize: 935 KiB