Package: xcoredata Version: 1.15.0 Command: /home/biocbuild/bbs-3.23-bioc/R/bin/R CMD INSTALL xcoredata StartedAt: 2025-10-30 10:57:33 -0400 (Thu, 30 Oct 2025) EndedAt: 2025-10-30 10:57:45 -0400 (Thu, 30 Oct 2025) EllapsedTime: 12.8 seconds RetCode: 0 Status: OK