Package: vulcandata Version: 1.33.0 Command: /home/biocbuild/bbs-3.23-bioc/R/bin/R CMD check --install=check:vulcandata.install-out.txt --library=/home/biocbuild/bbs-3.23-bioc/R/site-library --timings vulcandata_1.33.0.tar.gz StartedAt: 2025-10-30 12:57:00 -0400 (Thu, 30 Oct 2025) EndedAt: 2025-10-30 12:57:22 -0400 (Thu, 30 Oct 2025) EllapsedTime: 21.3 seconds RetCode: 0 Status: OK CheckDir: vulcandata.Rcheck Warnings: 0