Package: vulcandata Version: 1.33.0 Command: /home/biocbuild/bbs-3.23-bioc/R/bin/R CMD build --keep-empty-dirs --no-resave-data vulcandata StartedAt: 2025-10-30 11:43:49 -0400 (Thu, 30 Oct 2025) EndedAt: 2025-10-30 11:44:00 -0400 (Thu, 30 Oct 2025) EllapsedTime: 11.3 seconds RetCode: 0 Status: OK PackageFile: vulcandata_1.33.0.tar.gz PackageFileSize: 44.75 MiB